{"text_format":"1","workbook":"xlsx","n_sheets":6,"sheets":["DATA","Suvestinė","1 Darbo užmokestis","2 Išlaidų detalizavimas","Finansavimo intensyvumai","Dienpinigiai ir apgyvendinimas"],"not_rendered":{"charts":0,"images":0,"macros":1,"external_links":0,"defined_names":3,"comments":0,"pivot_tables":0},"unopened":[],"bounds":{"document_bytes":16777216,"sheet_cells":100000,"rows_first":2000,"rows_last":500,"rows_between":2000,"halvings":0,"cell_chars":16384,"cell_head_chars":4096},"cells_cut":0,"cells_raw":0,"read":"whole","date_system":"1900"}

{"sheet":"DATA","index":0,"n_rows":32,"n_cols":15,"rows_kept":32,"cut":false,"hidden":true,"merged":[]}
[null,"Vykdytojo tipas","MT VID. intensyvumas","EP VID. intensyvumas",null,null,null,"Vykdytojo tipas","TIS","FS",null,null,null,"Vykdytojo tipas","Juridinis asmuo"]
[null,"Pareiškėjas",{"$f":"IF(ISERROR(AVERAGEIFS($D$8:$D$32,$C$8:$C$32,B2,$B$8:$B$32,\"Moksliniai tyrimai\")),0,AVERAGEIFS($D$8:$D$32,$C$8:$C$32,B2,$B$8:$B$32,\"Moksliniai tyrimai\"))","v":0},{"$f":"IF(ISERROR(AVERAGEIFS($D$8:$D$32,$C$8:$C$32,B2,$B$8:$B$32,\"Eksperimentinė plėtra\")),0,AVERAGEIFS($D$8:$D$32,$C$8:$C$32,B2,$B$8:$B$32,\"Eksperimentinė plėtra\"))","v":0},null,null,null,"Pareiškėjas",{"$f":"SUMIF($H$8:$H$32,H2,$I$8:$I$32)","v":0},{"$f":"SUMIF($H$8:$H$32,H2,$J$8:$J$32)","v":0},null,null,null,"Pareiškėjas",{"$f":"VLOOKUP(N2,$N$8:$O$32,2,FALSE)","v":{"$error":"#N/A"}}]
[null,"Partneris Nr. 1",{"$f":"IF(ISERROR(AVERAGEIFS($D$8:$D$32,$C$8:$C$32,B3,$B$8:$B$32,\"Moksliniai tyrimai\")),0,AVERAGEIFS($D$8:$D$32,$C$8:$C$32,B3,$B$8:$B$32,\"Moksliniai tyrimai\"))","v":0},{"$f":"IF(ISERROR(AVERAGEIFS($D$8:$D$32,$C$8:$C$32,B3,$B$8:$B$32,\"Eksperimentinė plėtra\")),0,AVERAGEIFS($D$8:$D$32,$C$8:$C$32,B3,$B$8:$B$32,\"Eksperimentinė plėtra\"))","v":0},null,null,null,"Partneris Nr. 1",{"$f":"SUMIF($H$8:$H$32,H3,$I$8:$I$32)","v":0},{"$f":"SUMIF($H$8:$H$32,H3,$J$8:$J$32)","v":0},null,null,null,"Partneris Nr. 1",{"$f":"VLOOKUP(N3,$N$8:$O$32,2,FALSE)","v":{"$error":"#N/A"}}]
[null,"Partneris Nr. 2",0,0,null,null,null,"Partneris Nr. 2",0,0,null,null,null,"Partneris Nr. 2",{"$error":"#N/A"}]
[null,"Partneris Nr. 3",0,0,null,null,null,"Partneris Nr. 3",{"$f":"SUMIF($H$8:$H$32,H5,$I$8:$I$32)","v":0},0,null,null,null,"Partneris Nr. 3",{"$error":"#N/A"}]
[]
["Veiklos Nr.","Veiklos tipas","Vykdytojo tipas","Intensyvumas",null,null,"Veiklos Nr.","Vykdytojo tipas","TIS","FS",null,null,"Veiklos Nr.","Vykdytojo tipas","Juridinis asmuo"]
[1,{"$f":"IF('2 Išlaidų detalizavimas'!#REF!=\"\",\"\",'2 Išlaidų detalizavimas'!#REF!)","v":{"$error":"#REF!"}},{"$f":"IF('2 Išlaidų detalizavimas'!#REF!=\"\",\"\",'2 Išlaidų detalizavimas'!#REF!)","v":{"$error":"#REF!"}},{"$f":"IF('2 Išlaidų detalizavimas'!$D$4=\"\",\"\",'2 Išlaidų detalizavimas'!$D$4)","v":0},null,null,1,{"$f":"IF('2 Išlaidų detalizavimas'!#REF!=\"\",\"\",'2 Išlaidų detalizavimas'!#REF!)","v":{"$error":"#REF!"}},{"$f":"'2 Išlaidų detalizavimas'!#REF!","v":{"$error":"#REF!"}},{"$f":"'2 Išlaidų detalizavimas'!#REF!","v":{"$error":"#REF!"}},null,null,1,{"$f":"IF('2 Išlaidų detalizavimas'!#REF!=\"\",\"\",'2 Išlaidų detalizavimas'!#REF!)","v":{"$error":"#REF!"}},{"$f":"IF('2 Išlaidų detalizavimas'!$D$3=\"\",\"\",'2 Išlaidų detalizavimas'!$D$3)","v":""}]
[2,{"$f":"IF(#REF!=\"\",\"\",#REF!)","v":{"$error":"#REF!"}},{"$f":"IF(#REF!=\"\",\"\",#REF!)","v":{"$error":"#REF!"}},{"$f":"IF(#REF!=\"\",\"\",#REF!)","v":{"$error":"#REF!"}},null,null,2,{"$f":"IF(#REF!=\"\",\"\",#REF!)","v":{"$error":"#REF!"}},{"$f":"#REF!","v":{"$error":"#REF!"}},{"$f":"#REF!","v":{"$error":"#REF!"}},null,null,2,{"$f":"IF(#REF!=\"\",\"\",#REF!)","v":{"$error":"#REF!"}},{"$f":"IF(#REF!=\"\",\"\",#REF!)","v":{"$error":"#REF!"}}]
[3,{"$f":"IF(#REF!=\"\",\"\",#REF!)","v":{"$error":"#REF!"}},{"$f":"IF(#REF!=\"\",\"\",#REF!)","v":{"$error":"#REF!"}},{"$f":"IF(#REF!=\"\",\"\",#REF!)","v":{"$error":"#REF!"}},null,null,3,{"$f":"IF(#REF!=\"\",\"\",#REF!)","v":{"$error":"#REF!"}},{"$f":"#REF!","v":{"$error":"#REF!"}},{"$f":"#REF!","v":{"$error":"#REF!"}},null,null,3,{"$f":"IF(#REF!=\"\",\"\",#REF!)","v":{"$error":"#REF!"}},{"$f":"IF(#REF!=\"\",\"\",#REF!)","v":{"$error":"#REF!"}}]
[4,{"$f":"IF(#REF!=\"\",\"\",#REF!)","v":{"$error":"#REF!"}},{"$f":"IF(#REF!=\"\",\"\",#REF!)","v":{"$error":"#REF!"}},{"$f":"IF(#REF!=\"\",\"\",#REF!)","v":{"$error":"#REF!"}},null,null,4,{"$f":"IF(#REF!=\"\",\"\",#REF!)","v":{"$error":"#REF!"}},{"$f":"#REF!","v":{"$error":"#REF!"}},{"$f":"#REF!","v":{"$error":"#REF!"}},null,null,4,{"$f":"IF(#REF!=\"\",\"\",#REF!)","v":{"$error":"#REF!"}},{"$f":"IF(#REF!=\"\",\"\",#REF!)","v":{"$error":"#REF!"}}]
[5,{"$f":"IF(#REF!=\"\",\"\",#REF!)","v":{"$error":"#REF!"}},{"$f":"IF(#REF!=\"\",\"\",#REF!)","v":{"$error":"#REF!"}},{"$f":"IF(#REF!=\"\",\"\",#REF!)","v":{"$error":"#REF!"}},null,null,5,{"$f":"IF(#REF!=\"\",\"\",#REF!)","v":{"$error":"#REF!"}},{"$f":"#REF!","v":{"$error":"#REF!"}},{"$f":"#REF!","v":{"$error":"#REF!"}},null,null,5,{"$f":"IF(#REF!=\"\",\"\",#REF!)","v":{"$error":"#REF!"}},{"$f":"IF(#REF!=\"\",\"\",#REF!)","v":{"$error":"#REF!"}}]
[6,{"$f":"IF(#REF!=\"\",\"\",#REF!)","v":{"$error":"#REF!"}},{"$f":"IF(#REF!=\"\",\"\",#REF!)","v":{"$error":"#REF!"}},{"$f":"IF(#REF!=\"\",\"\",#REF!)","v":{"$error":"#REF!"}},null,null,6,{"$f":"IF(#REF!=\"\",\"\",#REF!)","v":{"$error":"#REF!"}},{"$f":"#REF!","v":{"$error":"#REF!"}},{"$f":"#REF!","v":{"$error":"#REF!"}},null,null,6,{"$f":"IF(#REF!=\"\",\"\",#REF!)","v":{"$error":"#REF!"}},{"$f":"IF(#REF!=\"\",\"\",#REF!)","v":{"$error":"#REF!"}}]
[7,{"$f":"IF(#REF!=\"\",\"\",#REF!)","v":{"$error":"#REF!"}},{"$f":"IF(#REF!=\"\",\"\",#REF!)","v":{"$error":"#REF!"}},{"$f":"IF(#REF!=\"\",\"\",#REF!)","v":{"$error":"#REF!"}},null,null,7,{"$f":"IF(#REF!=\"\",\"\",#REF!)","v":{"$error":"#REF!"}},{"$f":"#REF!","v":{"$error":"#REF!"}},{"$f":"#REF!","v":{"$error":"#REF!"}},null,null,7,{"$f":"IF(#REF!=\"\",\"\",#REF!)","v":{"$error":"#REF!"}},{"$f":"IF(#REF!=\"\",\"\",#REF!)","v":{"$error":"#REF!"}}]
[8,{"$f":"IF(#REF!=\"\",\"\",#REF!)","v":{"$error":"#REF!"}},{"$f":"IF(#REF!=\"\",\"\",#REF!)","v":{"$error":"#REF!"}},{"$f":"IF(#REF!=\"\",\"\",#REF!)","v":{"$error":"#REF!"}},null,null,8,{"$f":"IF(#REF!=\"\",\"\",#REF!)","v":{"$error":"#REF!"}},{"$f":"#REF!","v":{"$error":"#REF!"}},{"$f":"#REF!","v":{"$error":"#REF!"}},null,null,8,{"$f":"IF(#REF!=\"\",\"\",#REF!)","v":{"$error":"#REF!"}},{"$f":"IF(#REF!=\"\",\"\",#REF!)","v":{"$error":"#REF!"}}]
[9,{"$f":"IF(#REF!=\"\",\"\",#REF!)","v":{"$error":"#REF!"}},{"$f":"IF(#REF!=\"\",\"\",#REF!)","v":{"$error":"#REF!"}},{"$f":"IF(#REF!=\"\",\"\",#REF!)","v":{"$error":"#REF!"}},null,null,9,{"$f":"IF(#REF!=\"\",\"\",#REF!)","v":{"$error":"#REF!"}},{"$f":"#REF!","v":{"$error":"#REF!"}},{"$f":"#REF!","v":{"$error":"#REF!"}},null,null,9,{"$f":"IF(#REF!=\"\",\"\",#REF!)","v":{"$error":"#REF!"}},{"$f":"IF(#REF!=\"\",\"\",#REF!)","v":{"$error":"#REF!"}}]
[10,{"$f":"IF(#REF!=\"\",\"\",#REF!)","v":{"$error":"#REF!"}},{"$f":"IF(#REF!=\"\",\"\",#REF!)","v":{"$error":"#REF!"}},{"$f":"IF(#REF!=\"\",\"\",#REF!)","v":{"$error":"#REF!"}},null,null,10,{"$f":"IF(#REF!=\"\",\"\",#REF!)","v":{"$error":"#REF!"}},{"$f":"#REF!","v":{"$error":"#REF!"}},{"$f":"#REF!","v":{"$error":"#REF!"}},null,null,10,{"$f":"IF(#REF!=\"\",\"\",#REF!)","v":{"$error":"#REF!"}},{"$f":"IF(#REF!=\"\",\"\",#REF!)","v":{"$error":"#REF!"}}]
[11,{"$f":"IF(#REF!=\"\",\"\",#REF!)","v":{"$error":"#REF!"}},{"$f":"IF(#REF!=\"\",\"\",#REF!)","v":{"$error":"#REF!"}},{"$f":"IF(#REF!=\"\",\"\",#REF!)","v":{"$error":"#REF!"}},null,null,11,{"$f":"IF(#REF!=\"\",\"\",#REF!)","v":{"$error":"#REF!"}},{"$f":"#REF!","v":{"$error":"#REF!"}},{"$f":"#REF!","v":{"$error":"#REF!"}},null,null,11,{"$f":"IF(#REF!=\"\",\"\",#REF!)","v":{"$error":"#REF!"}},{"$f":"IF(#REF!=\"\",\"\",#REF!)","v":{"$error":"#REF!"}}]
[12,{"$f":"IF(#REF!=\"\",\"\",#REF!)","v":{"$error":"#REF!"}},{"$f":"IF(#REF!=\"\",\"\",#REF!)","v":{"$error":"#REF!"}},{"$f":"IF(#REF!=\"\",\"\",#REF!)","v":{"$error":"#REF!"}},null,null,12,{"$f":"IF(#REF!=\"\",\"\",#REF!)","v":{"$error":"#REF!"}},{"$f":"#REF!","v":{"$error":"#REF!"}},{"$f":"#REF!","v":{"$error":"#REF!"}},null,null,12,{"$f":"IF(#REF!=\"\",\"\",#REF!)","v":{"$error":"#REF!"}},{"$f":"IF(#REF!=\"\",\"\",#REF!)","v":{"$error":"#REF!"}}]
[13,{"$f":"IF(#REF!=\"\",\"\",#REF!)","v":{"$error":"#REF!"}},{"$f":"IF(#REF!=\"\",\"\",#REF!)","v":{"$error":"#REF!"}},{"$f":"IF(#REF!=\"\",\"\",#REF!)","v":{"$error":"#REF!"}},null,null,13,{"$f":"IF(#REF!=\"\",\"\",#REF!)","v":{"$error":"#REF!"}},{"$f":"#REF!","v":{"$error":"#REF!"}},{"$f":"#REF!","v":{"$error":"#REF!"}},null,null,13,{"$f":"IF(#REF!=\"\",\"\",#REF!)","v":{"$error":"#REF!"}},{"$f":"IF(#REF!=\"\",\"\",#REF!)","v":{"$error":"#REF!"}}]
[14,{"$f":"IF(#REF!=\"\",\"\",#REF!)","v":{"$error":"#REF!"}},{"$f":"IF(#REF!=\"\",\"\",#REF!)","v":{"$error":"#REF!"}},{"$f":"IF(#REF!=\"\",\"\",#REF!)","v":{"$error":"#REF!"}},null,null,14,{"$f":"IF(#REF!=\"\",\"\",#REF!)","v":{"$error":"#REF!"}},{"$f":"#REF!","v":{"$error":"#REF!"}},{"$f":"#REF!","v":{"$error":"#REF!"}},null,null,14,{"$f":"IF(#REF!=\"\",\"\",#REF!)","v":{"$error":"#REF!"}},{"$f":"IF(#REF!=\"\",\"\",#REF!)","v":{"$error":"#REF!"}}]
[15,{"$f":"IF(#REF!=\"\",\"\",#REF!)","v":{"$error":"#REF!"}},{"$f":"IF(#REF!=\"\",\"\",#REF!)","v":{"$error":"#REF!"}},{"$f":"IF(#REF!=\"\",\"\",#REF!)","v":{"$error":"#REF!"}},null,null,15,{"$f":"IF(#REF!=\"\",\"\",#REF!)","v":{"$error":"#REF!"}},{"$f":"#REF!","v":{"$error":"#REF!"}},{"$f":"#REF!","v":{"$error":"#REF!"}},null,null,15,{"$f":"IF(#REF!=\"\",\"\",#REF!)","v":{"$error":"#REF!"}},{"$f":"IF(#REF!=\"\",\"\",#REF!)","v":{"$error":"#REF!"}}]
[16,{"$f":"IF(#REF!=\"\",\"\",#REF!)","v":{"$error":"#REF!"}},{"$f":"IF(#REF!=\"\",\"\",#REF!)","v":{"$error":"#REF!"}},{"$f":"IF(#REF!=\"\",\"\",#REF!)","v":{"$error":"#REF!"}},null,null,16,{"$f":"IF(#REF!=\"\",\"\",#REF!)","v":{"$error":"#REF!"}},{"$f":"#REF!","v":{"$error":"#REF!"}},{"$f":"#REF!","v":{"$error":"#REF!"}},null,null,16,{"$f":"IF(#REF!=\"\",\"\",#REF!)","v":{"$error":"#REF!"}},{"$f":"IF(#REF!=\"\",\"\",#REF!)","v":{"$error":"#REF!"}}]
[17,{"$f":"IF(#REF!=\"\",\"\",#REF!)","v":{"$error":"#REF!"}},{"$f":"IF(#REF!=\"\",\"\",#REF!)","v":{"$error":"#REF!"}},{"$f":"IF(#REF!=\"\",\"\",#REF!)","v":{"$error":"#REF!"}},null,null,17,{"$f":"IF(#REF!=\"\",\"\",#REF!)","v":{"$error":"#REF!"}},{"$f":"#REF!","v":{"$error":"#REF!"}},{"$f":"#REF!","v":{"$error":"#REF!"}},null,null,17,{"$f":"IF(#REF!=\"\",\"\",#REF!)","v":{"$error":"#REF!"}},{"$f":"IF(#REF!=\"\",\"\",#REF!)","v":{"$error":"#REF!"}}]
[18,{"$f":"IF(#REF!=\"\",\"\",#REF!)","v":{"$error":"#REF!"}},{"$f":"IF(#REF!=\"\",\"\",#REF!)","v":{"$error":"#REF!"}},{"$f":"IF(#REF!=\"\",\"\",#REF!)","v":{"$error":"#REF!"}},null,null,18,{"$f":"IF(#REF!=\"\",\"\",#REF!)","v":{"$error":"#REF!"}},{"$f":"#REF!","v":{"$error":"#REF!"}},{"$f":"#REF!","v":{"$error":"#REF!"}},null,null,18,{"$f":"IF(#REF!=\"\",\"\",#REF!)","v":{"$error":"#REF!"}},{"$f":"IF(#REF!=\"\",\"\",#REF!)","v":{"$error":"#REF!"}}]
[19,{"$f":"IF(#REF!=\"\",\"\",#REF!)","v":{"$error":"#REF!"}},{"$f":"IF(#REF!=\"\",\"\",#REF!)","v":{"$error":"#REF!"}},{"$f":"IF(#REF!=\"\",\"\",#REF!)","v":{"$error":"#REF!"}},null,null,19,{"$f":"IF(#REF!=\"\",\"\",#REF!)","v":{"$error":"#REF!"}},{"$f":"#REF!","v":{"$error":"#REF!"}},{"$f":"#REF!","v":{"$error":"#REF!"}},null,null,19,{"$f":"IF(#REF!=\"\",\"\",#REF!)","v":{"$error":"#REF!"}},{"$f":"IF(#REF!=\"\",\"\",#REF!)","v":{"$error":"#REF!"}}]
[20,{"$f":"IF(#REF!=\"\",\"\",#REF!)","v":{"$error":"#REF!"}},{"$f":"IF(#REF!=\"\",\"\",#REF!)","v":{"$error":"#REF!"}},{"$f":"IF(#REF!=\"\",\"\",#REF!)","v":{"$error":"#REF!"}},null,null,20,{"$f":"IF(#REF!=\"\",\"\",#REF!)","v":{"$error":"#REF!"}},{"$f":"#REF!","v":{"$error":"#REF!"}},{"$f":"#REF!","v":{"$error":"#REF!"}},null,null,20,{"$f":"IF(#REF!=\"\",\"\",#REF!)","v":{"$error":"#REF!"}},{"$f":"IF(#REF!=\"\",\"\",#REF!)","v":{"$error":"#REF!"}}]
[21,{"$f":"IF(#REF!=\"\",\"\",#REF!)","v":{"$error":"#REF!"}},{"$f":"IF(#REF!=\"\",\"\",#REF!)","v":{"$error":"#REF!"}},{"$f":"IF(#REF!=\"\",\"\",#REF!)","v":{"$error":"#REF!"}},null,null,21,{"$f":"IF(#REF!=\"\",\"\",#REF!)","v":{"$error":"#REF!"}},{"$f":"#REF!","v":{"$error":"#REF!"}},{"$f":"#REF!","v":{"$error":"#REF!"}},null,null,21,{"$f":"IF(#REF!=\"\",\"\",#REF!)","v":{"$error":"#REF!"}},{"$f":"IF(#REF!=\"\",\"\",#REF!)","v":{"$error":"#REF!"}}]
[22,{"$f":"IF(#REF!=\"\",\"\",#REF!)","v":{"$error":"#REF!"}},{"$f":"IF(#REF!=\"\",\"\",#REF!)","v":{"$error":"#REF!"}},{"$f":"IF(#REF!=\"\",\"\",#REF!)","v":{"$error":"#REF!"}},null,null,22,{"$f":"IF(#REF!=\"\",\"\",#REF!)","v":{"$error":"#REF!"}},{"$f":"#REF!","v":{"$error":"#REF!"}},{"$f":"#REF!","v":{"$error":"#REF!"}},null,null,22,{"$f":"IF(#REF!=\"\",\"\",#REF!)","v":{"$error":"#REF!"}},{"$f":"IF(#REF!=\"\",\"\",#REF!)","v":{"$error":"#REF!"}}]
[23,{"$f":"IF(#REF!=\"\",\"\",#REF!)","v":{"$error":"#REF!"}},{"$f":"IF(#REF!=\"\",\"\",#REF!)","v":{"$error":"#REF!"}},{"$f":"IF(#REF!=\"\",\"\",#REF!)","v":{"$error":"#REF!"}},null,null,23,{"$f":"IF(#REF!=\"\",\"\",#REF!)","v":{"$error":"#REF!"}},{"$f":"#REF!","v":{"$error":"#REF!"}},{"$f":"#REF!","v":{"$error":"#REF!"}},null,null,23,{"$f":"IF(#REF!=\"\",\"\",#REF!)","v":{"$error":"#REF!"}},{"$f":"IF(#REF!=\"\",\"\",#REF!)","v":{"$error":"#REF!"}}]
[24,{"$f":"IF(#REF!=\"\",\"\",#REF!)","v":{"$error":"#REF!"}},{"$f":"IF(#REF!=\"\",\"\",#REF!)","v":{"$error":"#REF!"}},{"$f":"IF(#REF!=\"\",\"\",#REF!)","v":{"$error":"#REF!"}},null,null,24,{"$f":"IF(#REF!=\"\",\"\",#REF!)","v":{"$error":"#REF!"}},{"$f":"#REF!","v":{"$error":"#REF!"}},{"$f":"#REF!","v":{"$error":"#REF!"}},null,null,24,{"$f":"IF(#REF!=\"\",\"\",#REF!)","v":{"$error":"#REF!"}},{"$f":"IF(#REF!=\"\",\"\",#REF!)","v":{"$error":"#REF!"}}]
[25,{"$f":"IF(#REF!=\"\",\"\",#REF!)","v":{"$error":"#REF!"}},{"$f":"IF(#REF!=\"\",\"\",#REF!)","v":{"$error":"#REF!"}},{"$f":"IF(#REF!=\"\",\"\",#REF!)","v":{"$error":"#REF!"}},null,null,25,{"$f":"IF(#REF!=\"\",\"\",#REF!)","v":{"$error":"#REF!"}},{"$f":"#REF!","v":{"$error":"#REF!"}},{"$f":"#REF!","v":{"$error":"#REF!"}},null,null,25,{"$f":"IF(#REF!=\"\",\"\",#REF!)","v":{"$error":"#REF!"}},{"$f":"IF(#REF!=\"\",\"\",#REF!)","v":{"$error":"#REF!"}}]

{"sheet":"Suvestinė","index":1,"n_rows":29,"n_cols":10,"rows_kept":29,"cut":false,"hidden":false,"merged":[[20,0,20,5],[23,0,23,7],[26,0,26,7],[1,0,1,9],[2,0,2,9],[22,0,22,9]]}
[]
["PROJEKTO BIUDŽETO SUVESTINĖ"]
["(lentelė užpildoma automatiškai)"]
[]
["Renginio Nr.","Renginio pavadinimas","Renginio šalis","Išvykimo į renginį data","Grįžimo iš renginio data","Komandiruotės trukmė, d.","Darbo užmokesčio išlaidos, Eur","Komandiruočių išlaidos, Eur","IŠ VISO renginių išlaidos, Eur","Finansavimo suma, Eur"]
[1,{"$f":"'2 Išlaidų detalizavimas'!D9","v":0},{"$f":"'2 Išlaidų detalizavimas'!D11","v":0},{"$f":"IF(AND($B6>0,'2 Išlaidų detalizavimas'!D13>0),'2 Išlaidų detalizavimas'!D13,\"\")","v":""},{"$f":"IF(AND($B6>0,'2 Išlaidų detalizavimas'!H13>0),'2 Išlaidų detalizavimas'!H13,\"\")","v":""},{"$f":"IFERROR(IF(AND(D6>0,E6>0),E6-D6+1,),0)","v":0},{"$f":"'2 Išlaidų detalizavimas'!G15","v":0},{"$f":"'2 Išlaidų detalizavimas'!G30","v":0},{"$f":"'2 Išlaidų detalizavimas'!G31","v":0},{"$f":"'2 Išlaidų detalizavimas'!H31","v":0}]
[2,{"$f":"'2 Išlaidų detalizavimas'!D33","v":0},{"$f":"'2 Išlaidų detalizavimas'!D35","v":0},{"$f":"IF(AND(B7>0,'2 Išlaidų detalizavimas'!D37>0),'2 Išlaidų detalizavimas'!D37,\"\")","v":""},{"$f":"IF(AND($B7>0,'2 Išlaidų detalizavimas'!H37>0),'2 Išlaidų detalizavimas'!H37,\"\")","v":""},{"$f":"IFERROR(IF(AND(D7>0,E7>0),E7-D7+1,),0)","v":0},{"$f":"'2 Išlaidų detalizavimas'!G39","v":0},{"$f":"'2 Išlaidų detalizavimas'!G54","v":0},{"$f":"'2 Išlaidų detalizavimas'!G55","v":0},{"$f":"'2 Išlaidų detalizavimas'!H55","v":0}]
[3,{"$f":"'2 Išlaidų detalizavimas'!D57","v":0},{"$f":"'2 Išlaidų detalizavimas'!D59","v":0},{"$f":"IF(AND(B8>0,'2 Išlaidų detalizavimas'!D61>0),'2 Išlaidų detalizavimas'!D61,\"\")","v":""},{"$f":"IF(AND(B8>0,'2 Išlaidų detalizavimas'!H61>0),'2 Išlaidų detalizavimas'!H61,\"\")","v":""},0,{"$f":"'2 Išlaidų detalizavimas'!G63","v":0},{"$f":"'2 Išlaidų detalizavimas'!G78","v":0},{"$f":"'2 Išlaidų detalizavimas'!G79","v":0},{"$f":"'2 Išlaidų detalizavimas'!H79","v":0}]
[4,{"$f":"'2 Išlaidų detalizavimas'!D81","v":0},{"$f":"'2 Išlaidų detalizavimas'!D83","v":0},{"$f":"IF(AND(B9>0,'2 Išlaidų detalizavimas'!D85>0),'2 Išlaidų detalizavimas'!D85,\"\")","v":""},{"$f":"IF(AND(B9>0,'2 Išlaidų detalizavimas'!H85>0),'2 Išlaidų detalizavimas'!H85,\"\")","v":""},0,{"$f":"'2 Išlaidų detalizavimas'!G87","v":0},{"$f":"'2 Išlaidų detalizavimas'!G102","v":0},{"$f":"'2 Išlaidų detalizavimas'!G103","v":0},{"$f":"'2 Išlaidų detalizavimas'!H103","v":0}]
[5,{"$f":"'2 Išlaidų detalizavimas'!D105","v":0},{"$f":"'2 Išlaidų detalizavimas'!D107","v":0},{"$f":"IF(AND(B10>0,'2 Išlaidų detalizavimas'!D109>0),'2 Išlaidų detalizavimas'!D109,\"\")","v":""},{"$f":"IF(AND(B10>0,'2 Išlaidų detalizavimas'!H109>0),'2 Išlaidų detalizavimas'!H109,\"\")","v":""},0,{"$f":"'2 Išlaidų detalizavimas'!G111","v":0},{"$f":"'2 Išlaidų detalizavimas'!G126","v":0},{"$f":"'2 Išlaidų detalizavimas'!G127","v":0},{"$f":"'2 Išlaidų detalizavimas'!H127","v":0}]
[6,{"$f":"'2 Išlaidų detalizavimas'!D129","v":0},{"$f":"'2 Išlaidų detalizavimas'!D131","v":0},{"$f":"IF(AND(B11>0,'2 Išlaidų detalizavimas'!D133>0),'2 Išlaidų detalizavimas'!D133,\"\")","v":""},{"$f":"IF(AND(B11>0,'2 Išlaidų detalizavimas'!H133>0),'2 Išlaidų detalizavimas'!H133,\"\")","v":""},0,{"$f":"'2 Išlaidų detalizavimas'!G135","v":0},{"$f":"'2 Išlaidų detalizavimas'!G150","v":0},{"$f":"'2 Išlaidų detalizavimas'!G151","v":0},{"$f":"'2 Išlaidų detalizavimas'!H151","v":0}]
[7,{"$f":"'2 Išlaidų detalizavimas'!D153","v":0},{"$f":"'2 Išlaidų detalizavimas'!D155","v":0},{"$f":"IF(AND(B12>0,'2 Išlaidų detalizavimas'!D157>0),'2 Išlaidų detalizavimas'!D157,\"\")","v":""},{"$f":"IF(AND(B12>0,'2 Išlaidų detalizavimas'!H157>0),'2 Išlaidų detalizavimas'!H157,\"\")","v":""},0,{"$f":"'2 Išlaidų detalizavimas'!G159","v":0},{"$f":"'2 Išlaidų detalizavimas'!G174","v":0},{"$f":"'2 Išlaidų detalizavimas'!G175","v":0},{"$f":"'2 Išlaidų detalizavimas'!H175","v":0}]
[8,{"$f":"'2 Išlaidų detalizavimas'!D177","v":0},{"$f":"'2 Išlaidų detalizavimas'!D179","v":0},{"$f":"IF(AND(B13>0,'2 Išlaidų detalizavimas'!D181>0),'2 Išlaidų detalizavimas'!D181,\"\")","v":""},{"$f":"IF(AND(B13>0,'2 Išlaidų detalizavimas'!H181>0),'2 Išlaidų detalizavimas'!H181,\"\")","v":""},0,{"$f":"'2 Išlaidų detalizavimas'!G183","v":0},{"$f":"'2 Išlaidų detalizavimas'!G198","v":0},{"$f":"'2 Išlaidų detalizavimas'!G199","v":0},{"$f":"'2 Išlaidų detalizavimas'!H199","v":0}]
[9,{"$f":"'2 Išlaidų detalizavimas'!D201","v":0},{"$f":"'2 Išlaidų detalizavimas'!D203","v":0},{"$f":"IF(AND(B14>0,'2 Išlaidų detalizavimas'!D205>0),'2 Išlaidų detalizavimas'!D205,\"\")","v":""},{"$f":"IF(AND(B14>0,'2 Išlaidų detalizavimas'!H205>0),'2 Išlaidų detalizavimas'!H205,\"\")","v":""},0,{"$f":"'2 Išlaidų detalizavimas'!G207","v":0},{"$f":"'2 Išlaidų detalizavimas'!G222","v":0},{"$f":"'2 Išlaidų detalizavimas'!G223","v":0},{"$f":"'2 Išlaidų detalizavimas'!H223","v":0}]
[10,{"$f":"'2 Išlaidų detalizavimas'!D225","v":0},{"$f":"'2 Išlaidų detalizavimas'!D227","v":0},{"$f":"IF(AND(B15>0,'2 Išlaidų detalizavimas'!D229>0),'2 Išlaidų detalizavimas'!D229,\"\")","v":""},{"$f":"IF(AND(B15>0,'2 Išlaidų detalizavimas'!H229>0),'2 Išlaidų detalizavimas'!H229,\"\")","v":""},0,{"$f":"'2 Išlaidų detalizavimas'!G231","v":0},{"$f":"'2 Išlaidų detalizavimas'!G246","v":0},{"$f":"'2 Išlaidų detalizavimas'!G247","v":0},{"$f":"'2 Išlaidų detalizavimas'!H247","v":0}]
[11,{"$f":"'2 Išlaidų detalizavimas'!D249","v":0},{"$f":"'2 Išlaidų detalizavimas'!D251","v":0},{"$f":"IF(AND(B16>0,'2 Išlaidų detalizavimas'!D253>0),'2 Išlaidų detalizavimas'!D253,\"\")","v":""},{"$f":"IF(AND(B16>0,'2 Išlaidų detalizavimas'!H253>0),'2 Išlaidų detalizavimas'!H253,\"\")","v":""},0,{"$f":"'2 Išlaidų detalizavimas'!G255","v":0},{"$f":"'2 Išlaidų detalizavimas'!G270","v":0},{"$f":"'2 Išlaidų detalizavimas'!G271","v":0},{"$f":"'2 Išlaidų detalizavimas'!H271","v":0}]
[12,{"$f":"'2 Išlaidų detalizavimas'!D273","v":0},{"$f":"'2 Išlaidų detalizavimas'!D275","v":0},{"$f":"IF(AND(B17>0,'2 Išlaidų detalizavimas'!D277>0),'2 Išlaidų detalizavimas'!D277,\"\")","v":""},{"$f":"IF(AND(B17>0,'2 Išlaidų detalizavimas'!H277>0),'2 Išlaidų detalizavimas'!H277,\"\")","v":""},0,{"$f":"'2 Išlaidų detalizavimas'!G279","v":0},{"$f":"'2 Išlaidų detalizavimas'!G294","v":0},{"$f":"'2 Išlaidų detalizavimas'!G295","v":0},{"$f":"'2 Išlaidų detalizavimas'!H295","v":0}]
[13,{"$f":"'2 Išlaidų detalizavimas'!D297","v":0},{"$f":"'2 Išlaidų detalizavimas'!D299","v":0},{"$f":"IF(AND(B18>0,'2 Išlaidų detalizavimas'!D301>0),'2 Išlaidų detalizavimas'!D301,\"\")","v":""},{"$f":"IF(AND(B18>0,'2 Išlaidų detalizavimas'!H301>0),'2 Išlaidų detalizavimas'!H301,\"\")","v":""},0,{"$f":"'2 Išlaidų detalizavimas'!G303","v":0},{"$f":"'2 Išlaidų detalizavimas'!G318","v":0},{"$f":"'2 Išlaidų detalizavimas'!G319","v":0},{"$f":"'2 Išlaidų detalizavimas'!H319","v":0}]
[14,{"$f":"'2 Išlaidų detalizavimas'!D321","v":0},{"$f":"'2 Išlaidų detalizavimas'!D323","v":0},{"$f":"IF(AND(B19>0,'2 Išlaidų detalizavimas'!D325>0),'2 Išlaidų detalizavimas'!D325,\"\")","v":""},{"$f":"IF(AND(B19>0,'2 Išlaidų detalizavimas'!H325>0),'2 Išlaidų detalizavimas'!H325,\"\")","v":""},0,{"$f":"'2 Išlaidų detalizavimas'!G327","v":0},{"$f":"'2 Išlaidų detalizavimas'!G342","v":0},{"$f":"'2 Išlaidų detalizavimas'!G343","v":0},{"$f":"'2 Išlaidų detalizavimas'!H343","v":0}]
[15,{"$f":"'2 Išlaidų detalizavimas'!D345","v":0},{"$f":"'2 Išlaidų detalizavimas'!D347","v":0},{"$f":"IF(AND(B20>0,'2 Išlaidų detalizavimas'!D349>0),'2 Išlaidų detalizavimas'!D349,\"\")","v":""},{"$f":"IF(AND(B20>0,'2 Išlaidų detalizavimas'!H349>0),'2 Išlaidų detalizavimas'!H349,\"\")","v":""},0,{"$f":"'2 Išlaidų detalizavimas'!G351","v":0},{"$f":"'2 Išlaidų detalizavimas'!G366","v":0},{"$f":"'2 Išlaidų detalizavimas'!G367","v":0},{"$f":"'2 Išlaidų detalizavimas'!H367","v":0}]
["IŠ VISO:",null,null,null,null,null,{"$f":"SUM(G6:G20)","v":0},{"$f":"SUM(H6:H20)","v":0},0,0]
[]
["NETIESIOGINĖS IŠLAIDOS\n(netiesioginės išlaidos negalli viršyti 7 proc. nuo tinkamų finansuoti tiesioginių išlaidų)"]
["NETIESIOGINĖS IŠLAIDOS (įrašykite):",null,null,null,null,null,null,null,null,{"$f":"ROUND(I24*'2 Išlaidų detalizavimas'!D4,2)","v":0}]
[null,null,null,null,null,null,null,null,{"$f":"IF(I24>(I21*7%),\"DĖMESIO, netiesioginės išlaidos viršija 7 proc.\",\"\")","v":""}]
[]
["PROJEKTO BIUDŽETAS:",null,null,null,null,null,null,null,{"$f":"I21+I24","v":0},{"$f":"J21+J24","v":0}]
[null,null,null,null,null,null,null,null,null,{"$f":"IF(J27<10000,\"DĖMESIO, finansavimo suma negali būti mažesnė nei 10.000,00 Eur\",\"\")","v":"DĖMESIO, finansavimo suma negali būti mažesnė nei 10.000,00 Eur"}]
[null,null,null,null,null,null,null,null,null,{"$f":"IF(J27>20000,\"DĖMESIO, finansavimo suma negali viršyti 20.000,00 Eur\",\"\")","v":""}]

{"sheet":"1 Darbo užmokestis","index":2,"n_rows":16,"n_cols":5,"rows_kept":16,"cut":false,"hidden":false,"merged":[[3,0,3,4],[1,0,1,4]]}
[]
["INFORMACIJA APIE PRISKAITYTĄ IR IŠMOKĖTĄ DARBO UŽMOKESTĮ     "]
[]
["Žemiau esančioje lentelėje įrašykite tuos įmonės darbuotojus, kurie vyks į projekte numatytus renginius."]
[]
["Nr.","Vardas, pavardė","Pareigos","Faktiškai gaunamas darbo užmokestis už 1 val. pagal praėjusių 6 mėn. vidurkį, Eur","Išlaidų pagrindimo dokumentų pavadinimas, data ir Nr."]
["1"]
["2"]
["3"]
["4"]
["5"]
["6"]
["7"]
["8"]
["9"]
["10"]

{"sheet":"2 Išlaidų detalizavimas","index":3,"n_rows":367,"n_cols":10,"rows_kept":367,"cut":false,"hidden":false,"merged":[[71,0,75,0],[71,1,75,1],[346,3,346,7],[8,3,8,8],[13,4,13,8],[14,1,14,5],[20,1,20,5],[21,1,21,2],[2,3,2,5],[28,1,28,2],[12,4,12,6],[11,4,11,6],[8,0,13,1],[22,1,22,2],[5,1,5,2],[2,0,2,2],[38,1,38,5],[44,1,44,5],[45,1,45,2],[46,1,46,2],[29,1,29,2],[32,0,37,1],[32,3,32,8],[35,4,35,6],[37,4,37,8],[30,0,30,5],[34,3,34,7],[62,1,62,5],[68,1,68,5],[69,1,69,2],[70,1,70,2],[52,1,52,2],[53,1,53,2],[54,0,54,5],[56,0,61,1],[56,3,56,8],[59,4,59,6],[60,4,60,6],[61,4,61,8],[58,3,58,7],[47,0,51,0],[47,1,51,1],[36,4,36,6],[119,0,123,0],[119,1,123,1],[86,1,86,5],[92,1,92,5],[93,1,93,2],[94,1,94,2],[76,1,76,2],[77,1,77,2],[78,0,78,5],[80,0,85,1],[80,3,80,8],[83,4,83,6],[84,4,84,6],[85,4,85,8],[82,3,82,7],[95,0,99,0],[95,1,99,1],[110,1,110,5],[116,1,116,5],[117,1,117,2],[118,1,118,2],[100,1,100,2],[101,1,101,2],[102,0,102,5],[104,0,109,1],[104,3,104,8],[107,4,107,6],[108,4,108,6],[109,4,109,8],[106,3,106,7],[167,0,171,0],[167,1,171,1],[134,1,134,5],[140,1,140,5],[141,1,141,2],[142,1,142,2],[124,1,124,2],[125,1,125,2],[126,0,126,5],[128,0,133,1],[128,3,128,8],[131,4,131,6],[132,4,132,6],[133,4,133,8],[130,3,130,7],[143,0,147,0],[143,1,147,1],[158,1,158,5],[164,1,164,5],[165,1,165,2],[166,1,166,2],[148,1,148,2],[149,1,149,2],[150,0,150,5],[152,0,157,1],[152,3,152,8],[155,4,155,6],[156,4,156,6],[157,4,157,8],[154,3,154,7],[215,0,219,0],[215,1,219,1],[182,1,182,5],[188,1,188,5],[189,1,189,2],[190,1,190,2],[172,1,172,2],[173,1,173,2],[174,0,174,5],[176,0,181,1],[176,3,176,8],[179,4,179,6],[180,4,180,6],[181,4,181,8],[178,3,178,7],[191,0,195,0],[191,1,195,1],[206,1,206,5],[212,1,212,5],[213,1,213,2],[214,1,214,2],[196,1,196,2],[197,1,197,2],[198,0,198,5],[200,0,205,1],[200,3,200,8],[203,4,203,6],[204,4,204,6],[205,4,205,8],[202,3,202,7],[263,0,267,0],[263,1,267,1],[230,1,230,5],[236,1,236,5],[237,1,237,2],[238,1,238,2],[220,1,220,2],[221,1,221,2],[222,0,222,5],[224,0,229,1],[224,3,224,8],[227,4,227,6],[228,4,228,6],[229,4,229,8],[226,3,226,7],[239,0,243,0],[239,1,243,1],[254,1,254,5],[260,1,260,5],[261,1,261,2],[262,1,262,2],[244,1,244,2],[245,1,245,2],[246,0,246,5],[248,0,253,1],[248,3,248,8],[251,4,251,6],[252,4,252,6],[253,4,253,8],[250,3,250,7],[268,1,268,2],[269,1,269,2],[270,0,270,5],[272,0,277,1],[272,3,272,8],[275,4,275,6],[276,4,276,6],[277,4,277,8],[274,3,274,7],[299,4,299,6],[300,4,300,6],[301,4,301,8],[298,3,298,7],[311,0,315,0],[311,1,315,1],[278,1,278,5],[284,1,284,5],[285,1,285,2],[286,1,286,2],[287,0,291,0],[287,1,291,1],[366,0,366,5],[6,0,6,5],[350,1,350,5],[356,1,356,5],[357,1,357,2],[358,1,358,2],[340,1,340,2],[341,1,341,2],[342,0,342,5],[344,0,349,1],[344,3,344,8],[347,4,347,6],[348,4,348,6],[349,4,349,8],[326,1,326,5],[332,1,332,5],[10,3,10,7],[333,1,333,2],[334,1,334,2],[316,1,316,2],[317,1,317,2],[318,0,318,5],[320,0,325,1],[320,3,320,8],[359,0,363,0],[359,1,363,1],[15,8,17,8],[23,1,27,1],[23,0,27,0],[0,0,0,2],[0,3,0,8],[364,1,364,2],[365,1,365,2],[323,4,323,6],[324,4,324,6],[325,4,325,8],[322,3,322,7],[335,0,339,0],[335,1,339,1],[302,1,302,5],[308,1,308,5],[309,1,309,2],[310,1,310,2],[292,1,292,2],[293,1,293,2],[294,0,294,5],[296,0,301,1],[296,3,296,8]]}
["Pareiškėjo pavadinimas:"]
[null,null,"Renginių kiekis, vnt.:"]
["Regionas, pasirinkite iš sąrašo:"]
[null,null,"Finansuojamoji dalis:",{"$f":"IF(D3>0,VLOOKUP(D3,'Finansavimo intensyvumai'!A1:B2,2,FALSE),0%)","v":0}]
[]
["Nr.","Išlaidų pavadinimas",null,"Matavimo vnt.","Kiekis","Vieneto kaina be PVM, Eur","Tinkamų finansuoti išlaidų suma be PVM, Eur","Finansavimo suma, Eur","Komentarai ir išlaidų pagrindimo dokumentų pavadinimas, data ir Nr."]
["IŠ VISO:",null,null,null,null,null,{"$f":"G31+G55+G79+G103+G127+G151+G175+G199+G223+G247+G271+G295+G319+G343+G367","v":0},{"$f":"H31+H55+H79+H103+H127+H151+H175+H199+H223+H247+H271+H295+H319+H343+H367","v":0}]
[]
["1 RENGINYS",null,"Renginio pavadinimas:"]
[null,null,"Renginio nuoroda internete:"]
[null,null,"Renginio šalis, pasirinkite iš sąrašo:"]
[null,null,"Renginio pradžios data:",null,"Renginio pabaigos data:",null,null,null,"Renginio trukmė dienomis:",{"$f":"IF(AND(D12>0,H12>0),H12-D12+1,)","v":0}]
[null,null,"Išvykimo į renginį data:",null,"Grįžimo iš renginio data:",null,null,null,"Komandiruotės trukmė dienomis:",{"$f":"IF(AND(D13>0,H13>0),H13-D13+1,)","v":0}]
[null,null,"Į renginį vykstančių asmenų skaičius:"]
["1.1","Projektą vykdančio personalo darbo užmokesčio išlaidos komandiruotės laikotarpiu",null,null,null,null,{"$f":"SUM(G16:G20)","v":0},{"$f":"SUM(H16:H20)","v":0}]
["1.1.1",null,{"$f":"IF(B16>0,VLOOKUP(B16,'1 Darbo užmokestis'!B$7:C$16,2,FALSE),\"\")","v":""},"val.",{"$f":"J$13*8","v":0},{"$f":"IF(B16>0,ROUND(VLOOKUP(B16,'1 Darbo užmokestis'!B$7:D$16,3,FALSE),2),0)","v":0},{"$f":"ROUND(E16*F16,2)","v":0},{"$f":"ROUND(G16*$D$4,2)","v":0},"Kad galėtumėte pasirinkti darbuotojus, pirmiausia užpildykite lapą „Darbo užmokestis“"]
["1.1.2",null,{"$f":"IF(B17>0,VLOOKUP(B17,'1 Darbo užmokestis'!B$7:C$16,2,FALSE),\"\")","v":""},"val.",{"$f":"J$13*8","v":0},{"$f":"IF(B17>0,ROUND(VLOOKUP(B17,'1 Darbo užmokestis'!B$7:D$16,3,FALSE),2),0)","v":0},{"$f":"ROUND(E17*F17,2)","v":0},{"$f":"ROUND(G17*$D$4,2)","v":0}]
["1.1.3",null,{"$f":"IF(B18>0,VLOOKUP(B18,'1 Darbo užmokestis'!B$7:C$16,2,FALSE),\"\")","v":""},"val.",0,{"$f":"IF(B18>0,ROUND(VLOOKUP(B18,'1 Darbo užmokestis'!B$7:D$16,3,FALSE),2),0)","v":0},{"$f":"ROUND(E18*F18,2)","v":0},{"$f":"ROUND(G18*$D$4,2)","v":0}]
["1.1.4",null,{"$f":"IF(B19>0,VLOOKUP(B19,'1 Darbo užmokestis'!B$7:C$16,2,FALSE),\"\")","v":""},"val.",0,{"$f":"IF(B19>0,ROUND(VLOOKUP(B19,'1 Darbo užmokestis'!B$7:D$16,3,FALSE),2),0)","v":0},0,{"$f":"ROUND(G19*$D$4,2)","v":0}]
["1.1.5",null,{"$f":"IF(B20>0,VLOOKUP(B20,'1 Darbo užmokestis'!B$7:C$16,2,FALSE),\"\")","v":""},"val.",0,{"$f":"IF(B20>0,ROUND(VLOOKUP(B20,'1 Darbo užmokestis'!B$7:D$16,3,FALSE),2),0)","v":0},0,0]
["1.2","Komandiruotės išlaidos 1 asmeniui",null,null,null,null,{"$f":"SUM(G22:G29)","v":0},{"$f":"SUM(H22:H29)","v":0}]
["1.2.1","Dienpinigiai",null,"dienos",{"$f":"$J13","v":0},{"$f":"IF(D11>0,VLOOKUP(D11,'Dienpinigiai ir apgyvendinimas'!A$3:C$150,3,FALSE),0)","v":0},{"$f":"ROUND(E22*F22,2)","v":0},{"$f":"ROUND(G22*$D$4,2)","v":0}]
["1.2.2","Apgyvendinimo išlaidos (gyvenamojo ploto nuoma)",null,"naktys",{"$f":"IF(E22>0,$J13-1,0)","v":0},{"$f":"IF(D11>0,VLOOKUP(D11,'Dienpinigiai ir apgyvendinimas'!$A$3:$B$150,2,FALSE),0)","v":0},{"$f":"ROUND(E23*F23,2)","v":0},0]
["1.2.3","Kelionės išlaidos","Nurodykite konkrečią išlaidų rūšį (lėktuvų, atobusų bilietai, kt.)",null,null,null,{"$f":"ROUND(E24*F24,2)","v":0},0]
[null,null,null,null,null,null,{"$f":"ROUND(E25*F25,2)","v":0},0]
[null,null,null,null,null,null,{"$f":"ROUND(E26*F26,2)","v":0},0]
[null,null,null,null,null,null,{"$f":"ROUND(E27*F27,2)","v":0},0]
[null,null,null,null,null,null,0,0]
["1.2.4","Dalyvavimo MTEPI renginyje registracijos mokestis",null,"asmeniui",1,null,{"$f":"ROUND(F29,2)","v":0},0]
["1.3","Iš viso komandiruotės išlaidų (visiems vykstantiems asmenims)",null,null,null,null,{"$f":"ROUND(G21*D14,2)","v":0},{"$f":"ROUND(G30*$D$4,2)","v":0},"Išlaidos apskaičiuojamos tik įrašius į renginį vykstančių asmenų skaičių"]
["Iš viso 1 renginio išlaidų:",null,null,null,null,null,{"$f":"G15+G30","v":0},{"$f":"H15+H30","v":0}]
[]
["2 RENGINYS",null,"Renginio pavadinimas:"]
[null,null,"Renginio nuoroda internete:"]
[null,null,"Renginio šalis, pasirinkite iš sąrašo:"]
[null,null,"Renginio pradžios data:",null,"Renginio pabaigos data:",null,null,null,"Renginio trukmė dienomis:",{"$f":"IF(AND(D36>0,H36>0),H36-D36+1,)","v":0}]
[null,null,"Išvykimo į renginį data:",null,"Grįžimo iš renginio data:",null,null,null,"Komandiruotės trukmė dienomis:",{"$f":"IF(AND(D37>0,H37>0),H37-D37+1,)","v":0}]
[null,null,"Į renginį vykstančių asmenų skaičius:"]
["2.1","Projektą vykdančio personalo darbo užmokesčio išlaidos komandiruotės laikotarpiu",null,null,null,null,{"$f":"SUM(G40:G44)","v":0},{"$f":"SUM(H40:H44)","v":0}]
["2.1.1",null,{"$f":"IF(B40>0,VLOOKUP(B40,'1 Darbo užmokestis'!B$7:C$16,2,FALSE),\"\")","v":""},"val.",{"$f":"J$37*8","v":0},{"$f":"IF(B40>0,ROUND(VLOOKUP(B40,'1 Darbo užmokestis'!B$7:D$16,3,FALSE),2),0)","v":0},{"$f":"ROUND(E40*F40,2)","v":0},{"$f":"ROUND(G40*$D$4,2)","v":0}]
["2.1.2",null,{"$f":"IF(B41>0,VLOOKUP(B41,'1 Darbo užmokestis'!B$7:C$16,2,FALSE),\"\")","v":""},"val.",{"$f":"J$37*8","v":0},{"$f":"IF(B41>0,ROUND(VLOOKUP(B41,'1 Darbo užmokestis'!B$7:D$16,3,FALSE),2),0)","v":0},{"$f":"ROUND(E41*F41,2)","v":0},{"$f":"ROUND(G41*$D$4,2)","v":0}]
["2.1.3",null,{"$f":"IF(B42>0,VLOOKUP(B42,'1 Darbo užmokestis'!B$7:C$16,2,FALSE),\"\")","v":""},"val.",0,{"$f":"IF(B42>0,ROUND(VLOOKUP(B42,'1 Darbo užmokestis'!B$7:D$16,3,FALSE),2),0)","v":0},{"$f":"ROUND(E42*F42,2)","v":0},{"$f":"ROUND(G42*$D$4,2)","v":0}]
["2.1.4",null,{"$f":"IF(B43>0,VLOOKUP(B43,'1 Darbo užmokestis'!B$7:C$16,2,FALSE),\"\")","v":""},"val.",0,{"$f":"IF(B43>0,ROUND(VLOOKUP(B43,'1 Darbo užmokestis'!B$7:D$16,3,FALSE),2),0)","v":0},0,{"$f":"ROUND(G43*$D$4,2)","v":0}]
["2.1.5",null,{"$f":"IF(B44>0,VLOOKUP(B44,'1 Darbo užmokestis'!B$7:C$16,2,FALSE),\"\")","v":""},"val.",0,{"$f":"IF(B44>0,ROUND(VLOOKUP(B44,'1 Darbo užmokestis'!B$7:D$16,3,FALSE),2),0)","v":0},0,0]
["2.2","Komandiruotės išlaidos 1 asmeniui",null,null,null,null,{"$f":"SUM(G46:G53)","v":0},{"$f":"SUM(H46:H53)","v":0}]
["2.2.1","Dienpinigiai",null,"dienos",{"$f":"$J37","v":0},{"$f":"IF(D35>0,VLOOKUP(D35,'Dienpinigiai ir apgyvendinimas'!A$3:C$150,3,FALSE),0)","v":0},{"$f":"ROUND(E46*F46,2)","v":0},{"$f":"ROUND(G46*$D$4,2)","v":0}]
["2.2.2","Apgyvendinimo išlaidos (gyvenamojo ploto nuoma)",null,"naktys",{"$f":"IF(E46>0,$J37-1,0)","v":0},{"$f":"IF(D35>0,VLOOKUP(D35,'Dienpinigiai ir apgyvendinimas'!$A$3:$B$150,2,FALSE),0)","v":0},0,0]
["2.2.3","Kelionės išlaidos","Nurodykite konkrečią išlaidų rūšį (lėktuvų, atobusų bilietai, kt.)",null,null,null,{"$f":"ROUND(E48*F48,2)","v":0},0]
[null,null,null,null,null,null,{"$f":"ROUND(E49*F49,2)","v":0},0]
[null,null,null,null,null,null,{"$f":"ROUND(E50*F50,2)","v":0},0]
[null,null,null,null,null,null,{"$f":"ROUND(E51*F51,2)","v":0},0]
[null,null,null,null,null,null,{"$f":"ROUND(E52*F52,2)","v":0},0]
["2.2.4","Dalyvavimo MTEPI renginyje registracijos mokestis",null,"asmeniui",1,null,{"$f":"ROUND(F53,2)","v":0},0]
["2.3","Iš viso komandiruotės išlaidų (visiems vykstantiems asmenims)",null,null,null,null,{"$f":"ROUND(G45*D38,2)","v":0},{"$f":"ROUND(G54*$D$4,2)","v":0},"Išlaidos apskaičiuojamos tik įrašius į renginį vykstančių asmenų skaičių"]
["Iš viso 2 renginio išlaidų:",null,null,null,null,null,{"$f":"G39+G54","v":0},{"$f":"H39+H54","v":0}]
[]
["3 RENGINYS",null,"Renginio pavadinimas:"]
[null,null,"Renginio nuoroda internete:"]
[null,null,"Renginio šalis, pasirinkite iš sąrašo:"]
[null,null,"Renginio pradžios data:",null,"Renginio pabaigos data:",null,null,null,"Renginio trukmė dienomis:",{"$f":"IF(AND(D60>0,H60>0),H60-D60+1,)","v":0}]
[null,null,"Išvykimo į renginį data:",null,"Grįžimo iš renginio data:",null,null,null,"Komandiruotės trukmė dienomis:",{"$f":"IF(AND(D61>0,H61>0),H61-D61+1,)","v":0}]
[null,null,"Į renginį vykstančių asmenų skaičius:"]
["3.1","Projektą vykdančio personalo darbo užmokesčio išlaidos komandiruotės laikotarpiu",null,null,null,null,{"$f":"SUM(G64:G68)","v":0},{"$f":"SUM(H64:H68)","v":0}]
["3.1.1",null,{"$f":"IF(B64>0,VLOOKUP(B64,'1 Darbo užmokestis'!B$7:C$16,2,FALSE),\"\")","v":""},"val.",{"$f":"J$61*8","v":0},{"$f":"IF(B64>0,ROUND(VLOOKUP(B64,'1 Darbo užmokestis'!B$7:D$16,3,FALSE),2),0)","v":0},{"$f":"ROUND(E64*F64,2)","v":0},{"$f":"ROUND(G64*$D$4,2)","v":0}]
["3.1.2",null,{"$f":"IF(B65>0,VLOOKUP(B65,'1 Darbo užmokestis'!B$7:C$16,2,FALSE),\"\")","v":""},"val.",{"$f":"J$61*8","v":0},{"$f":"IF(B65>0,ROUND(VLOOKUP(B65,'1 Darbo užmokestis'!B$7:D$16,3,FALSE),2),0)","v":0},{"$f":"ROUND(E65*F65,2)","v":0},{"$f":"ROUND(G65*$D$4,2)","v":0}]
["3.1.3",null,{"$f":"IF(B66>0,VLOOKUP(B66,'1 Darbo užmokestis'!B$7:C$16,2,FALSE),\"\")","v":""},"val.",0,{"$f":"IF(B66>0,ROUND(VLOOKUP(B66,'1 Darbo užmokestis'!B$7:D$16,3,FALSE),2),0)","v":0},{"$f":"ROUND(E66*F66,2)","v":0},{"$f":"ROUND(G66*$D$4,2)","v":0}]
["3.1.4",null,{"$f":"IF(B67>0,VLOOKUP(B67,'1 Darbo užmokestis'!B$7:C$16,2,FALSE),\"\")","v":""},"val.",0,{"$f":"IF(B67>0,ROUND(VLOOKUP(B67,'1 Darbo užmokestis'!B$7:D$16,3,FALSE),2),0)","v":0},{"$f":"ROUND(E67*F67,2)","v":0},{"$f":"ROUND(G67*$D$4,2)","v":0}]
["3.1.5",null,{"$f":"IF(B68>0,VLOOKUP(B68,'1 Darbo užmokestis'!B$7:C$16,2,FALSE),\"\")","v":""},"val.",0,{"$f":"IF(B68>0,ROUND(VLOOKUP(B68,'1 Darbo užmokestis'!B$7:D$16,3,FALSE),2),0)","v":0},0,0]
["3.2","Komandiruotės išlaidos 1 asmeniui",null,null,null,null,{"$f":"SUM(G70:G77)","v":0},{"$f":"SUM(H70:H77)","v":0}]
["3.2.1","Dienpinigiai",null,"dienos",{"$f":"$J61","v":0},{"$f":"IF(D59>0,VLOOKUP(D59,'Dienpinigiai ir apgyvendinimas'!A$3:C$150,3,FALSE),0)","v":0},{"$f":"ROUND(E70*F70,2)","v":0},{"$f":"ROUND(G70*$D$4,2)","v":0}]
["3.2.2","Apgyvendinimo išlaidos (gyvenamojo ploto nuoma)",null,"naktys",{"$f":"IF(E70>0,$J61-1,0)","v":0},{"$f":"IF(D59>0,VLOOKUP(D59,'Dienpinigiai ir apgyvendinimas'!$A$3:$B$150,2,FALSE),0)","v":0},0,0]
["3.2.3","Kelionės išlaidos","Nurodykite konkrečią išlaidų rūšį (lėktuvų, atobusų bilietai, kt.)",null,null,null,{"$f":"ROUND(E72*F72,2)","v":0},0]
[null,null,null,null,null,null,{"$f":"ROUND(E73*F73,2)","v":0},0]
[null,null,null,null,null,null,{"$f":"ROUND(E74*F74,2)","v":0},0]
[null,null,null,null,null,null,{"$f":"ROUND(E75*F75,2)","v":0},0]
[null,null,null,null,null,null,{"$f":"ROUND(E76*F76,2)","v":0},0]
["3.2.4","Dalyvavimo MTEPI renginyje registracijos mokestis",null,"asmeniui",1,null,{"$f":"ROUND(F77,2)","v":0},0]
["3.3","Iš viso komandiruotės išlaidų (visiems vykstantiems asmenims)",null,null,null,null,{"$f":"ROUND(G69*D62,2)","v":0},{"$f":"ROUND(G78*$D$4,2)","v":0},"Išlaidos apskaičiuojamos tik įrašius į renginį vykstančių asmenų skaičių"]
["Iš viso 3 renginio išlaidų:",null,null,null,null,null,{"$f":"G63+G78","v":0},{"$f":"H63+H78","v":0}]
[]
["4 RENGINYS",null,"Renginio pavadinimas:"]
[null,null,"Renginio nuoroda internete:"]
[null,null,"Renginio šalis, pasirinkite iš sąrašo:"]
[null,null,"Renginio pradžios data:",null,"Renginio pabaigos data:",null,null,null,"Renginio trukmė dienomis:",{"$f":"IF(AND(D84>0,H84>0),H84-D84+1,)","v":0}]
[null,null,"Išvykimo į renginį data:",null,"Grįžimo iš renginio data:",null,null,null,"Komandiruotės trukmė dienomis:",{"$f":"IF(AND(D85>0,H85>0),H85-D85+1,)","v":0}]
[null,null,"Į renginį vykstančių asmenų skaičius:"]
["4.1","Projektą vykdančio personalo darbo užmokesčio išlaidos komandiruotės laikotarpiu",null,null,null,null,{"$f":"SUM(G88:G92)","v":0},{"$f":"SUM(H88:H92)","v":0}]
["4.1.1",null,{"$f":"IF(B88>0,VLOOKUP(B88,'1 Darbo užmokestis'!B$7:C$16,2,FALSE),\"\")","v":""},"val.",{"$f":"J$85*8","v":0},{"$f":"IF(B88>0,ROUND(VLOOKUP(B88,'1 Darbo užmokestis'!B$7:D$16,3,FALSE),2),0)","v":0},{"$f":"ROUND(E88*F88,2)","v":0},{"$f":"ROUND(G88*$D$4,2)","v":0}]
["4.1.2",null,{"$f":"IF(B89>0,VLOOKUP(B89,'1 Darbo užmokestis'!B$7:C$16,2,FALSE),\"\")","v":""},"val.",{"$f":"J$85*8","v":0},{"$f":"IF(B89>0,ROUND(VLOOKUP(B89,'1 Darbo užmokestis'!B$7:D$16,3,FALSE),2),0)","v":0},{"$f":"ROUND(E89*F89,2)","v":0},{"$f":"ROUND(G89*$D$4,2)","v":0}]
["4.1.3",null,{"$f":"IF(B90>0,VLOOKUP(B90,'1 Darbo užmokestis'!B$7:C$16,2,FALSE),\"\")","v":""},"val.",0,{"$f":"IF(B90>0,ROUND(VLOOKUP(B90,'1 Darbo užmokestis'!B$7:D$16,3,FALSE),2),0)","v":0},{"$f":"ROUND(E90*F90,2)","v":0},{"$f":"ROUND(G90*$D$4,2)","v":0}]
["4.1.4",null,{"$f":"IF(B91>0,VLOOKUP(B91,'1 Darbo užmokestis'!B$7:C$16,2,FALSE),\"\")","v":""},"val.",{"$f":"J$85*8","v":0},{"$f":"IF(B91>0,ROUND(VLOOKUP(B91,'1 Darbo užmokestis'!B$7:D$16,3,FALSE),2),0)","v":0},0,{"$f":"ROUND(G91*$D$4,2)","v":0}]
["4.1.5",null,{"$f":"IF(B92>0,VLOOKUP(B92,'1 Darbo užmokestis'!B$7:C$16,2,FALSE),\"\")","v":""},"val.",0,{"$f":"IF(B92>0,ROUND(VLOOKUP(B92,'1 Darbo užmokestis'!B$7:D$16,3,FALSE),2),0)","v":0},0,0]
["4.2","Komandiruotės išlaidos 1 asmeniui",null,null,null,null,{"$f":"SUM(G94:G101)","v":0},{"$f":"SUM(H94:H101)","v":0}]
["4.2.1","Dienpinigiai",null,"dienos",{"$f":"$J85","v":0},{"$f":"IF(D83>0,VLOOKUP(D83,'Dienpinigiai ir apgyvendinimas'!A$3:C$150,3,FALSE),0)","v":0},{"$f":"ROUND(E94*F94,2)","v":0},{"$f":"ROUND(G94*$D$4,2)","v":0}]
["4.2.2","Apgyvendinimo išlaidos (gyvenamojo ploto nuoma)",null,"naktys",{"$f":"IF(E94>0,$J85-1,0)","v":0},{"$f":"IF(D83>0,VLOOKUP(D83,'Dienpinigiai ir apgyvendinimas'!$A$3:$B$150,2,FALSE),0)","v":0},0,0]
["4.2.3","Kelionės išlaidos","Nurodykite konkrečią išlaidų rūšį (lėktuvų, atobusų bilietai, kt.)",null,null,null,{"$f":"ROUND(E96*F96,2)","v":0},0]
[null,null,null,null,null,null,{"$f":"ROUND(E97*F97,2)","v":0},0]
[null,null,null,null,null,null,{"$f":"ROUND(E98*F98,2)","v":0},0]
[null,null,null,null,null,null,{"$f":"ROUND(E99*F99,2)","v":0},0]
[null,null,null,null,null,null,{"$f":"ROUND(E100*F100,2)","v":0},0]
["4.2.4","Dalyvavimo MTEPI renginyje registracijos mokestis",null,"asmeniui",1,null,{"$f":"ROUND(F101,2)","v":0},0]
["4.3","Iš viso komandiruotės išlaidų (visiems vykstantiems asmenims)",null,null,null,null,{"$f":"ROUND(G93*D86,2)","v":0},{"$f":"ROUND(G102*$D$4,2)","v":0},"Išlaidos apskaičiuojamos tik įrašius į renginį vykstančių asmenų skaičių"]
["Iš viso 4 renginio išlaidų:",null,null,null,null,null,{"$f":"G87+G102","v":0},{"$f":"H87+H102","v":0}]
[]
["5 RENGINYS",null,"Renginio pavadinimas:"]
[null,null,"Renginio nuoroda internete:"]
[null,null,"Renginio šalis, pasirinkite iš sąrašo:"]
[null,null,"Renginio pradžios data:",null,"Renginio pabaigos data:",null,null,null,"Renginio trukmė dienomis:",{"$f":"IF(AND(D108>0,H108>0),H108-D108+1,)","v":0}]
[null,null,"Išvykimo į renginį data:",null,"Grįžimo iš renginio data:",null,null,null,"Komandiruotės trukmė dienomis:",{"$f":"IF(AND(D109>0,H109>0),H109-D109+1,)","v":0}]
[null,null,"Į renginį vykstančių asmenų skaičius:"]
["5.1","Projektą vykdančio personalo darbo užmokesčio išlaidos komandiruotės laikotarpiu",null,null,null,null,{"$f":"SUM(G112:G116)","v":0},{"$f":"SUM(H112:H116)","v":0}]
["5.1.1",null,{"$f":"IF(B112>0,VLOOKUP(B112,'1 Darbo užmokestis'!B$7:C$16,2,FALSE),\"\")","v":""},"val.",{"$f":"J$109*8","v":0},{"$f":"IF(B112>0,ROUND(VLOOKUP(B112,'1 Darbo užmokestis'!B$7:D$16,3,FALSE),2),0)","v":0},{"$f":"ROUND(E112*F112,2)","v":0},{"$f":"ROUND(G112*$D$4,2)","v":0}]
["5.1.2",null,{"$f":"IF(B113>0,VLOOKUP(B113,'1 Darbo užmokestis'!B$7:C$16,2,FALSE),\"\")","v":""},"val.",{"$f":"J$109*8","v":0},{"$f":"IF(B113>0,ROUND(VLOOKUP(B113,'1 Darbo užmokestis'!B$7:D$16,3,FALSE),2),0)","v":0},{"$f":"ROUND(E113*F113,2)","v":0},{"$f":"ROUND(G113*$D$4,2)","v":0}]
["5.1.3",null,{"$f":"IF(B114>0,VLOOKUP(B114,'1 Darbo užmokestis'!B$7:C$16,2,FALSE),\"\")","v":""},"val.",0,{"$f":"IF(B114>0,ROUND(VLOOKUP(B114,'1 Darbo užmokestis'!B$7:D$16,3,FALSE),2),0)","v":0},{"$f":"ROUND(E114*F114,2)","v":0},{"$f":"ROUND(G114*$D$4,2)","v":0}]
["5.1.4",null,{"$f":"IF(B115>0,VLOOKUP(B115,'1 Darbo užmokestis'!B$7:C$16,2,FALSE),\"\")","v":""},"val.",0,{"$f":"IF(B115>0,ROUND(VLOOKUP(B115,'1 Darbo užmokestis'!B$7:D$16,3,FALSE),2),0)","v":0},0,{"$f":"ROUND(G115*$D$4,2)","v":0}]
["5.1.5",null,{"$f":"IF(B116>0,VLOOKUP(B116,'1 Darbo užmokestis'!B$7:C$16,2,FALSE),\"\")","v":""},"val.",0,{"$f":"IF(B116>0,ROUND(VLOOKUP(B116,'1 Darbo užmokestis'!B$7:D$16,3,FALSE),2),0)","v":0},0,0]
["5.2","Komandiruotės išlaidos 1 asmeniui",null,null,null,null,{"$f":"SUM(G118:G125)","v":0},{"$f":"SUM(H118:H125)","v":0}]
["5.2.1","Dienpinigiai",null,"dienos",{"$f":"$J109","v":0},{"$f":"IF(D107>0,VLOOKUP(D107,'Dienpinigiai ir apgyvendinimas'!A$3:C$150,3,FALSE),0)","v":0},{"$f":"ROUND(E118*F118,2)","v":0},{"$f":"ROUND(G118*$D$4,2)","v":0}]
["5.2.2","Apgyvendinimo išlaidos (gyvenamojo ploto nuoma)",null,"naktys",{"$f":"IF(E118>0,$J109-1,0)","v":0},{"$f":"IF(D107>0,VLOOKUP(D107,'Dienpinigiai ir apgyvendinimas'!$A$3:$B$150,2,FALSE),0)","v":0},0,0]
["5.2.3","Kelionės išlaidos","Nurodykite konkrečią išlaidų rūšį (lėktuvų, atobusų bilietai, kt.)",null,null,null,{"$f":"ROUND(E120*F120,2)","v":0},0]
[null,null,null,null,null,null,{"$f":"ROUND(E121*F121,2)","v":0},0]
[null,null,null,null,null,null,{"$f":"ROUND(E122*F122,2)","v":0},0]
[null,null,null,null,null,null,{"$f":"ROUND(E123*F123,2)","v":0},0]
[null,null,null,null,null,null,{"$f":"ROUND(E124*F124,2)","v":0},0]
["5.2.4","Dalyvavimo MTEPI renginyje registracijos mokestis",null,"asmeniui",1,null,{"$f":"ROUND(F125,2)","v":0},0]
["5.3","Iš viso komandiruotės išlaidų (visiems vykstantiems asmenims)",null,null,null,null,{"$f":"ROUND(G117*D110,2)","v":0},{"$f":"ROUND(G126*$D$4,2)","v":0},"Išlaidos apskaičiuojamos tik įrašius į renginį vykstančių asmenų skaičių"]
["Iš viso 5 renginio išlaidų:",null,null,null,null,null,{"$f":"G111+G126","v":0},{"$f":"H111+H126","v":0}]
[]
["6 RENGINYS",null,"Renginio pavadinimas:"]
[null,null,"Renginio nuoroda internete:"]
[null,null,"Renginio šalis, pasirinkite iš sąrašo:"]
[null,null,"Renginio pradžios data:",null,"Renginio pabaigos data:",null,null,null,"Renginio trukmė dienomis:",{"$f":"IF(AND(D132>0,H132>0),H132-D132+1,)","v":0}]
[null,null,"Išvykimo į renginį data:",null,"Grįžimo iš renginio data:",null,null,null,"Komandiruotės trukmė dienomis:",{"$f":"IF(AND(D133>0,H133>0),H133-D133+1,)","v":0}]
[null,null,"Į renginį vykstančių asmenų skaičius:"]
["6.1","Projektą vykdančio personalo darbo užmokesčio išlaidos komandiruotės laikotarpiu",null,null,null,null,{"$f":"SUM(G136:G140)","v":0},{"$f":"SUM(H136:H140)","v":0}]
["6.1.1",null,{"$f":"IF(B136>0,VLOOKUP(B136,'1 Darbo užmokestis'!B$7:C$16,2,FALSE),\"\")","v":""},"val.",{"$f":"J$133*8","v":0},{"$f":"IF(B136>0,ROUND(VLOOKUP(B136,'1 Darbo užmokestis'!B$7:D$16,3,FALSE),2),0)","v":0},{"$f":"ROUND(E136*F136,2)","v":0},{"$f":"ROUND(G136*$D$4,2)","v":0}]
["6.1.2",null,{"$f":"IF(B137>0,VLOOKUP(B137,'1 Darbo užmokestis'!B$7:C$16,2,FALSE),\"\")","v":""},"val.",{"$f":"J$133*8","v":0},{"$f":"IF(B137>0,ROUND(VLOOKUP(B137,'1 Darbo užmokestis'!B$7:D$16,3,FALSE),2),0)","v":0},{"$f":"ROUND(E137*F137,2)","v":0},{"$f":"ROUND(G137*$D$4,2)","v":0}]
["6.1.3",null,{"$f":"IF(B138>0,VLOOKUP(B138,'1 Darbo užmokestis'!B$7:C$16,2,FALSE),\"\")","v":""},"val.",0,{"$f":"IF(B138>0,ROUND(VLOOKUP(B138,'1 Darbo užmokestis'!B$7:D$16,3,FALSE),2),0)","v":0},{"$f":"ROUND(E138*F138,2)","v":0},{"$f":"ROUND(G138*$D$4,2)","v":0}]
["6.1.4",null,{"$f":"IF(B139>0,VLOOKUP(B139,'1 Darbo užmokestis'!B$7:C$16,2,FALSE),\"\")","v":""},"val.",0,{"$f":"IF(B139>0,ROUND(VLOOKUP(B139,'1 Darbo užmokestis'!B$7:D$16,3,FALSE),2),0)","v":0},0,{"$f":"ROUND(G139*$D$4,2)","v":0}]
["6.1.5",null,{"$f":"IF(B140>0,VLOOKUP(B140,'1 Darbo užmokestis'!B$7:C$16,2,FALSE),\"\")","v":""},"val.",0,{"$f":"IF(B140>0,ROUND(VLOOKUP(B140,'1 Darbo užmokestis'!B$7:D$16,3,FALSE),2),0)","v":0},0,0]
["6.2","Komandiruotės išlaidos 1 asmeniui",null,null,null,null,{"$f":"SUM(G142:G149)","v":0},{"$f":"SUM(H142:H149)","v":0}]
["6.2.1","Dienpinigiai",null,"dienos",{"$f":"$J133","v":0},{"$f":"IF(D131>0,VLOOKUP(D131,'Dienpinigiai ir apgyvendinimas'!A$3:C$150,3,FALSE),0)","v":0},{"$f":"ROUND(E142*F142,2)","v":0},{"$f":"ROUND(G142*$D$4,2)","v":0}]
["6.2.2","Apgyvendinimo išlaidos (gyvenamojo ploto nuoma)",null,"naktys",{"$f":"IF(E142>0,$J133-1,0)","v":0},{"$f":"IF(D131>0,VLOOKUP(D131,'Dienpinigiai ir apgyvendinimas'!$A$3:$B$150,2,FALSE),0)","v":0},0,0]
["6.2.3","Kelionės išlaidos","Nurodykite konkrečią išlaidų rūšį (lėktuvų, atobusų bilietai, kt.)",null,null,null,{"$f":"ROUND(E144*F144,2)","v":0},0]
[null,null,null,null,null,null,{"$f":"ROUND(E145*F145,2)","v":0},0]
[null,null,null,null,null,null,{"$f":"ROUND(E146*F146,2)","v":0},0]
[null,null,null,null,null,null,{"$f":"ROUND(E147*F147,2)","v":0},0]
[null,null,null,null,null,null,{"$f":"ROUND(E148*F148,2)","v":0},0]
["6.2.4","Dalyvavimo MTEPI renginyje registracijos mokestis",null,"asmeniui",1,null,{"$f":"ROUND(F149,2)","v":0},0]
["6.3","Iš viso komandiruotės išlaidų (visiems vykstantiems asmenims)",null,null,null,null,{"$f":"ROUND(G141*D134,2)","v":0},{"$f":"ROUND(G150*$D$4,2)","v":0},"Išlaidos apskaičiuojamos tik įrašius į renginį vykstančių asmenų skaičių"]
["Iš viso 6 renginio išlaidų:",null,null,null,null,null,{"$f":"G135+G150","v":0},{"$f":"H135+H150","v":0}]
[]
["7 RENGINYS",null,"Renginio pavadinimas:"]
[null,null,"Renginio nuoroda internete:"]
[null,null,"Renginio šalis, pasirinkite iš sąrašo:"]
[null,null,"Renginio pradžios data:",null,"Renginio pabaigos data:",null,null,null,"Renginio trukmė dienomis:",{"$f":"IF(AND(D156>0,H156>0),H156-D156+1,)","v":0}]
[null,null,"Išvykimo į renginį data:",null,"Grįžimo iš renginio data:",null,null,null,"Komandiruotės trukmė dienomis:",{"$f":"IF(AND(D157>0,H157>0),H157-D157+1,)","v":0}]
[null,null,"Į renginį vykstančių asmenų skaičius:"]
["7.1","Projektą vykdančio personalo darbo užmokesčio išlaidos komandiruotės laikotarpiu",null,null,null,null,{"$f":"SUM(G160:G164)","v":0},{"$f":"SUM(H160:H164)","v":0}]
["7.1.1",null,{"$f":"IF(B160>0,VLOOKUP(B160,'1 Darbo užmokestis'!B$7:C$16,2,FALSE),\"\")","v":""},"val.",{"$f":"J$157*8","v":0},{"$f":"IF(B160>0,ROUND(VLOOKUP(B160,'1 Darbo užmokestis'!B$7:D$16,3,FALSE),2),0)","v":0},{"$f":"ROUND(E160*F160,2)","v":0},{"$f":"ROUND(G160*$D$4,2)","v":0}]
["7.1.2",null,{"$f":"IF(B161>0,VLOOKUP(B161,'1 Darbo užmokestis'!B$7:C$16,2,FALSE),\"\")","v":""},"val.",{"$f":"J$157*8","v":0},{"$f":"IF(B161>0,ROUND(VLOOKUP(B161,'1 Darbo užmokestis'!B$7:D$16,3,FALSE),2),0)","v":0},{"$f":"ROUND(E161*F161,2)","v":0},{"$f":"ROUND(G161*$D$4,2)","v":0}]
["7.1.3",null,{"$f":"IF(B162>0,VLOOKUP(B162,'1 Darbo užmokestis'!B$7:C$16,2,FALSE),\"\")","v":""},"val.",0,{"$f":"IF(B162>0,ROUND(VLOOKUP(B162,'1 Darbo užmokestis'!B$7:D$16,3,FALSE),2),0)","v":0},{"$f":"ROUND(E162*F162,2)","v":0},{"$f":"ROUND(G162*$D$4,2)","v":0}]
["7.1.4",null,{"$f":"IF(B163>0,VLOOKUP(B163,'1 Darbo užmokestis'!B$7:C$16,2,FALSE),\"\")","v":""},"val.",0,{"$f":"IF(B163>0,ROUND(VLOOKUP(B163,'1 Darbo užmokestis'!B$7:D$16,3,FALSE),2),0)","v":0},0,{"$f":"ROUND(G163*$D$4,2)","v":0}]
["7.1.5",null,{"$f":"IF(B164>0,VLOOKUP(B164,'1 Darbo užmokestis'!B$7:C$16,2,FALSE),\"\")","v":""},"val.",0,{"$f":"IF(B164>0,ROUND(VLOOKUP(B164,'1 Darbo užmokestis'!B$7:D$16,3,FALSE),2),0)","v":0},0,0]
["7.2","Komandiruotės išlaidos 1 asmeniui",null,null,null,null,{"$f":"SUM(G166:G173)","v":0},{"$f":"SUM(H166:H173)","v":0}]
["7.2.1","Dienpinigiai",null,"dienos",{"$f":"$J157","v":0},{"$f":"IF(D155>0,VLOOKUP(D155,'Dienpinigiai ir apgyvendinimas'!A$3:C$150,3,FALSE),0)","v":0},{"$f":"ROUND(E166*F166,2)","v":0},{"$f":"ROUND(G166*$D$4,2)","v":0}]
["7.2.2","Apgyvendinimo išlaidos (gyvenamojo ploto nuoma)",null,"naktys",{"$f":"IF(E166>0,$J157-1,0)","v":0},{"$f":"IF(D155>0,VLOOKUP(D155,'Dienpinigiai ir apgyvendinimas'!$A$3:$B$150,2,FALSE),0)","v":0},0,0]
["7.2.3","Kelionės išlaidos","Nurodykite konkrečią išlaidų rūšį (lėktuvų, atobusų bilietai, kt.)",null,null,null,{"$f":"ROUND(E168*F168,2)","v":0},0]
[null,null,null,null,null,null,{"$f":"ROUND(E169*F169,2)","v":0},0]
[null,null,null,null,null,null,{"$f":"ROUND(E170*F170,2)","v":0},0]
[null,null,null,null,null,null,{"$f":"ROUND(E171*F171,2)","v":0},0]
[null,null,null,null,null,null,{"$f":"ROUND(E172*F172,2)","v":0},0]
["7.2.4","Dalyvavimo MTEPI renginyje registracijos mokestis",null,"asmeniui",1,null,{"$f":"ROUND(F173,2)","v":0},0]
["7.3","Iš viso komandiruotės išlaidų (visiems vykstantiems asmenims)",null,null,null,null,{"$f":"ROUND(G165*D158,2)","v":0},{"$f":"ROUND(G174*$D$4,2)","v":0},"Išlaidos apskaičiuojamos tik įrašius į renginį vykstančių asmenų skaičių"]
["Iš viso 7 renginio išlaidų:",null,null,null,null,null,{"$f":"G159+G174","v":0},{"$f":"H159+H174","v":0}]
[]
["8 RENGINYS",null,"Renginio pavadinimas:"]
[null,null,"Renginio nuoroda internete:"]
[null,null,"Renginio šalis, pasirinkite iš sąrašo:"]
[null,null,"Renginio pradžios data:",null,"Renginio pabaigos data:",null,null,null,"Renginio trukmė dienomis:",{"$f":"IF(AND(D180>0,H180>0),H180-D180+1,)","v":0}]
[null,null,"Išvykimo į renginį data:",null,"Grįžimo iš renginio data:",null,null,null,"Komandiruotės trukmė dienomis:",{"$f":"IF(AND(D181>0,H181>0),H181-D181+1,)","v":0}]
[null,null,"Į renginį vykstančių asmenų skaičius:"]
["8.1","Projektą vykdančio personalo darbo užmokesčio išlaidos komandiruotės laikotarpiu",null,null,null,null,{"$f":"SUM(G184:G188)","v":0},{"$f":"SUM(H184:H188)","v":0}]
["8.1.1",null,{"$f":"IF(B184>0,VLOOKUP(B184,'1 Darbo užmokestis'!B$7:C$16,2,FALSE),\"\")","v":""},"val.",{"$f":"J$181*8","v":0},{"$f":"IF(B184>0,ROUND(VLOOKUP(B184,'1 Darbo užmokestis'!B$7:D$16,3,FALSE),2),0)","v":0},{"$f":"ROUND(E184*F184,2)","v":0},{"$f":"ROUND(G184*$D$4,2)","v":0}]
["8.1.2",null,{"$f":"IF(B185>0,VLOOKUP(B185,'1 Darbo užmokestis'!B$7:C$16,2,FALSE),\"\")","v":""},"val.",{"$f":"J$181*8","v":0},{"$f":"IF(B185>0,ROUND(VLOOKUP(B185,'1 Darbo užmokestis'!B$7:D$16,3,FALSE),2),0)","v":0},{"$f":"ROUND(E185*F185,2)","v":0},{"$f":"ROUND(G185*$D$4,2)","v":0}]
["8.1.3",null,{"$f":"IF(B186>0,VLOOKUP(B186,'1 Darbo užmokestis'!B$7:C$16,2,FALSE),\"\")","v":""},"val.",0,{"$f":"IF(B186>0,ROUND(VLOOKUP(B186,'1 Darbo užmokestis'!B$7:D$16,3,FALSE),2),0)","v":0},{"$f":"ROUND(E186*F186,2)","v":0},{"$f":"ROUND(G186*$D$4,2)","v":0}]
["8.1.4",null,{"$f":"IF(B187>0,VLOOKUP(B187,'1 Darbo užmokestis'!B$7:C$16,2,FALSE),\"\")","v":""},"val.",0,{"$f":"IF(B187>0,ROUND(VLOOKUP(B187,'1 Darbo užmokestis'!B$7:D$16,3,FALSE),2),0)","v":0},0,{"$f":"ROUND(G187*$D$4,2)","v":0}]
["8.1.5",null,{"$f":"IF(B188>0,VLOOKUP(B188,'1 Darbo užmokestis'!B$7:C$16,2,FALSE),\"\")","v":""},"val.",0,{"$f":"IF(B188>0,ROUND(VLOOKUP(B188,'1 Darbo užmokestis'!B$7:D$16,3,FALSE),2),0)","v":0},0,0]
["8.2","Komandiruotės išlaidos 1 asmeniui",null,null,null,null,{"$f":"SUM(G190:G197)","v":0},{"$f":"SUM(H190:H197)","v":0}]
["8.2.1","Dienpinigiai",null,"dienos",{"$f":"$J181","v":0},{"$f":"IF(D179>0,VLOOKUP(D179,'Dienpinigiai ir apgyvendinimas'!A$3:C$150,3,FALSE),0)","v":0},{"$f":"ROUND(E190*F190,2)","v":0},{"$f":"ROUND(G190*$D$4,2)","v":0}]
["8.2.2","Apgyvendinimo išlaidos (gyvenamojo ploto nuoma)",null,"naktys",{"$f":"IF(E190>0,$J181-1,0)","v":0},{"$f":"IF(D179>0,VLOOKUP(D179,'Dienpinigiai ir apgyvendinimas'!$A$3:$B$150,2,FALSE),0)","v":0},0,0]
["8.2.3","Kelionės išlaidos","Nurodykite konkrečią išlaidų rūšį (lėktuvų, atobusų bilietai, kt.)",null,null,null,{"$f":"ROUND(E192*F192,2)","v":0},0]
[null,null,null,null,null,null,{"$f":"ROUND(E193*F193,2)","v":0},0]
[null,null,null,null,null,null,{"$f":"ROUND(E194*F194,2)","v":0},0]
[null,null,null,null,null,null,{"$f":"ROUND(E195*F195,2)","v":0},0]
[null,null,null,null,null,null,{"$f":"ROUND(E196*F196,2)","v":0},0]
["8.2.4","Dalyvavimo MTEPI renginyje registracijos mokestis",null,"asmeniui",1,null,{"$f":"ROUND(F197,2)","v":0},0]
["8.3","Iš viso komandiruotės išlaidų (visiems vykstantiems asmenims)",null,null,null,null,{"$f":"ROUND(G189*D182,2)","v":0},{"$f":"ROUND(G198*$D$4,2)","v":0},"Išlaidos apskaičiuojamos tik įrašius į renginį vykstančių asmenų skaičių"]
["Iš viso 8 renginio išlaidų:",null,null,null,null,null,{"$f":"G183+G198","v":0},{"$f":"H183+H198","v":0}]
[]
["9 RENGINYS",null,"Renginio pavadinimas:"]
[null,null,"Renginio nuoroda internete:"]
[null,null,"Renginio šalis, pasirinkite iš sąrašo:"]
[null,null,"Renginio pradžios data:",null,"Renginio pabaigos data:",null,null,null,"Renginio trukmė dienomis:",{"$f":"IF(AND(D204>0,H204>0),H204-D204+1,)","v":0}]
[null,null,"Išvykimo į renginį data:",null,"Grįžimo iš renginio data:",null,null,null,"Komandiruotės trukmė dienomis:",{"$f":"IF(AND(D205>0,H205>0),H205-D205+1,)","v":0}]
[null,null,"Į renginį vykstančių asmenų skaičius:"]
["9.1","Projektą vykdančio personalo darbo užmokesčio išlaidos komandiruotės laikotarpiu",null,null,null,null,{"$f":"SUM(G208:G212)","v":0},{"$f":"SUM(H208:H212)","v":0}]
["9.1.1",null,{"$f":"IF(B208>0,VLOOKUP(B208,'1 Darbo užmokestis'!B$7:C$16,2,FALSE),\"\")","v":""},"val.",{"$f":"J$205*8","v":0},{"$f":"IF(B208>0,ROUND(VLOOKUP(B208,'1 Darbo užmokestis'!B$7:D$16,3,FALSE),2),0)","v":0},{"$f":"ROUND(E208*F208,2)","v":0},{"$f":"ROUND(G208*$D$4,2)","v":0}]
["9.1.2",null,{"$f":"IF(B209>0,VLOOKUP(B209,'1 Darbo užmokestis'!B$7:C$16,2,FALSE),\"\")","v":""},"val.",{"$f":"J$205*8","v":0},{"$f":"IF(B209>0,ROUND(VLOOKUP(B209,'1 Darbo užmokestis'!B$7:D$16,3,FALSE),2),0)","v":0},{"$f":"ROUND(E209*F209,2)","v":0},{"$f":"ROUND(G209*$D$4,2)","v":0}]
["9.1.3",null,{"$f":"IF(B210>0,VLOOKUP(B210,'1 Darbo užmokestis'!B$7:C$16,2,FALSE),\"\")","v":""},"val.",0,{"$f":"IF(B210>0,ROUND(VLOOKUP(B210,'1 Darbo užmokestis'!B$7:D$16,3,FALSE),2),0)","v":0},{"$f":"ROUND(E210*F210,2)","v":0},{"$f":"ROUND(G210*$D$4,2)","v":0}]
["9.1.4",null,{"$f":"IF(B211>0,VLOOKUP(B211,'1 Darbo užmokestis'!B$7:C$16,2,FALSE),\"\")","v":""},"val.",0,{"$f":"IF(B211>0,ROUND(VLOOKUP(B211,'1 Darbo užmokestis'!B$7:D$16,3,FALSE),2),0)","v":0},0,{"$f":"ROUND(G211*$D$4,2)","v":0}]
["9.1.5",null,{"$f":"IF(B212>0,VLOOKUP(B212,'1 Darbo užmokestis'!B$7:C$16,2,FALSE),\"\")","v":""},"val.",0,{"$f":"IF(B212>0,ROUND(VLOOKUP(B212,'1 Darbo užmokestis'!B$7:D$16,3,FALSE),2),0)","v":0},0,0]
["9.2","Komandiruotės išlaidos 1 asmeniui",null,null,null,null,{"$f":"SUM(G214:G221)","v":0},{"$f":"SUM(H214:H221)","v":0}]
["9.2.1","Dienpinigiai",null,"dienos",{"$f":"$J205","v":0},{"$f":"IF(D203>0,VLOOKUP(D203,'Dienpinigiai ir apgyvendinimas'!A$3:C$150,3,FALSE),0)","v":0},{"$f":"ROUND(E214*F214,2)","v":0},{"$f":"ROUND(G214*$D$4,2)","v":0}]
["9.2.2","Apgyvendinimo išlaidos (gyvenamojo ploto nuoma)",null,"naktys",{"$f":"IF(E214>0,$J205-1,0)","v":0},{"$f":"IF(D203>0,VLOOKUP(D203,'Dienpinigiai ir apgyvendinimas'!$A$3:$B$150,2,FALSE),0)","v":0},0,0]
["9.2.3","Kelionės išlaidos","Nurodykite konkrečią išlaidų rūšį (lėktuvų, atobusų bilietai, kt.)",null,null,null,{"$f":"ROUND(E216*F216,2)","v":0},0]
[null,null,null,null,null,null,{"$f":"ROUND(E217*F217,2)","v":0},0]
[null,null,null,null,null,null,{"$f":"ROUND(E218*F218,2)","v":0},0]
[null,null,null,null,null,null,{"$f":"ROUND(E219*F219,2)","v":0},0]
[null,null,null,null,null,null,{"$f":"ROUND(E220*F220,2)","v":0},0]
["9.2.4","Dalyvavimo MTEPI renginyje registracijos mokestis",null,"asmeniui",1,null,{"$f":"ROUND(F221,2)","v":0},0]
["9.3","Iš viso komandiruotės išlaidų (visiems vykstantiems asmenims)",null,null,null,null,{"$f":"ROUND(G213*D206,2)","v":0},{"$f":"ROUND(G222*$D$4,2)","v":0},"Išlaidos apskaičiuojamos tik įrašius į renginį vykstančių asmenų skaičių"]
["Iš viso 9 renginio išlaidų:",null,null,null,null,null,{"$f":"G207+G222","v":0},{"$f":"H207+H222","v":0}]
[]
["10 RENGINYS",null,"Renginio pavadinimas:"]
[null,null,"Renginio nuoroda internete:"]
[null,null,"Renginio šalis, pasirinkite iš sąrašo:"]
[null,null,"Renginio pradžios data:",null,"Renginio pabaigos data:",null,null,null,"Renginio trukmė dienomis:",{"$f":"IF(AND(D228>0,H228>0),H228-D228+1,)","v":0}]
[null,null,"Išvykimo į renginį data:",null,"Grįžimo iš renginio data:",null,null,null,"Komandiruotės trukmė dienomis:",{"$f":"IF(AND(D229>0,H229>0),H229-D229+1,)","v":0}]
[null,null,"Į renginį vykstančių asmenų skaičius:"]
["10.1","Projektą vykdančio personalo darbo užmokesčio išlaidos komandiruotės laikotarpiu",null,null,null,null,{"$f":"SUM(G232:G236)","v":0},{"$f":"SUM(H232:H236)","v":0}]
["10.1.1",null,{"$f":"IF(B232>0,VLOOKUP(B232,'1 Darbo užmokestis'!B$7:C$16,2,FALSE),\"\")","v":""},"val.",{"$f":"J$229*8","v":0},{"$f":"IF(B232>0,ROUND(VLOOKUP(B232,'1 Darbo užmokestis'!B$7:D$16,3,FALSE),2),0)","v":0},{"$f":"ROUND(E232*F232,2)","v":0},{"$f":"ROUND(G232*$D$4,2)","v":0}]
["10.1.2",null,{"$f":"IF(B233>0,VLOOKUP(B233,'1 Darbo užmokestis'!B$7:C$16,2,FALSE),\"\")","v":""},"val.",{"$f":"J$229*8","v":0},{"$f":"IF(B233>0,ROUND(VLOOKUP(B233,'1 Darbo užmokestis'!B$7:D$16,3,FALSE),2),0)","v":0},{"$f":"ROUND(E233*F233,2)","v":0},{"$f":"ROUND(G233*$D$4,2)","v":0}]
["10.1.3",null,{"$f":"IF(B234>0,VLOOKUP(B234,'1 Darbo užmokestis'!B$7:C$16,2,FALSE),\"\")","v":""},"val.",0,{"$f":"IF(B234>0,ROUND(VLOOKUP(B234,'1 Darbo užmokestis'!B$7:D$16,3,FALSE),2),0)","v":0},{"$f":"ROUND(E234*F234,2)","v":0},{"$f":"ROUND(G234*$D$4,2)","v":0}]
["10.1.4",null,{"$f":"IF(B235>0,VLOOKUP(B235,'1 Darbo užmokestis'!B$7:C$16,2,FALSE),\"\")","v":""},"val.",0,{"$f":"IF(B235>0,ROUND(VLOOKUP(B235,'1 Darbo užmokestis'!B$7:D$16,3,FALSE),2),0)","v":0},0,{"$f":"ROUND(G235*$D$4,2)","v":0}]
["10.1.5",null,{"$f":"IF(B236>0,VLOOKUP(B236,'1 Darbo užmokestis'!B$7:C$16,2,FALSE),\"\")","v":""},"val.",0,{"$f":"IF(B236>0,ROUND(VLOOKUP(B236,'1 Darbo užmokestis'!B$7:D$16,3,FALSE),2),0)","v":0},0,0]
["10.2","Komandiruotės išlaidos 1 asmeniui",null,null,null,null,{"$f":"SUM(G238:G245)","v":0},{"$f":"SUM(H238:H245)","v":0}]
["10.2.1","Dienpinigiai",null,"dienos",{"$f":"$J229","v":0},{"$f":"IF(D227>0,VLOOKUP(D227,'Dienpinigiai ir apgyvendinimas'!A$3:C$150,3,FALSE),0)","v":0},{"$f":"ROUND(E238*F238,2)","v":0},{"$f":"ROUND(G238*$D$4,2)","v":0}]
["10.2.2","Apgyvendinimo išlaidos (gyvenamojo ploto nuoma)",null,"naktys",{"$f":"IF(E238>0,$J229-1,0)","v":0},{"$f":"IF(D227>0,VLOOKUP(D227,'Dienpinigiai ir apgyvendinimas'!$A$3:$B$150,2,FALSE),0)","v":0},0,0]
["10.2.3","Kelionės išlaidos","Nurodykite konkrečią išlaidų rūšį (lėktuvų, atobusų bilietai, kt.)",null,null,null,{"$f":"ROUND(E240*F240,2)","v":0},0]
[null,null,null,null,null,null,{"$f":"ROUND(E241*F241,2)","v":0},0]
[null,null,null,null,null,null,{"$f":"ROUND(E242*F242,2)","v":0},0]
[null,null,null,null,null,null,{"$f":"ROUND(E243*F243,2)","v":0},0]
[null,null,null,null,null,null,{"$f":"ROUND(E244*F244,2)","v":0},0]
["10.2.4","Dalyvavimo MTEPI renginyje registracijos mokestis",null,"asmeniui",1,null,{"$f":"ROUND(F245,2)","v":0},0]
["10.3","Iš viso komandiruotės išlaidų (visiems vykstantiems asmenims)",null,null,null,null,{"$f":"ROUND(G237*D230,2)","v":0},{"$f":"ROUND(G246*$D$4,2)","v":0},"Išlaidos apskaičiuojamos tik įrašius į renginį vykstančių asmenų skaičių"]
["Iš viso 10 renginio išlaidų:",null,null,null,null,null,{"$f":"G231+G246","v":0},{"$f":"H231+H246","v":0}]
[]
["11 RENGINYS",null,"Renginio pavadinimas:"]
[null,null,"Renginio nuoroda internete:"]
[null,null,"Renginio šalis, pasirinkite iš sąrašo:"]
[null,null,"Renginio pradžios data:",null,"Renginio pabaigos data:",null,null,null,"Renginio trukmė dienomis:",{"$f":"IF(AND(D252>0,H252>0),H252-D252+1,)","v":0}]
[null,null,"Išvykimo į renginį data:",null,"Grįžimo iš renginio data:",null,null,null,"Komandiruotės trukmė dienomis:",{"$f":"IF(AND(D253>0,H253>0),H253-D253+1,)","v":0}]
[null,null,"Į renginį vykstančių asmenų skaičius:"]
["11.1","Projektą vykdančio personalo darbo užmokesčio išlaidos komandiruotės laikotarpiu",null,null,null,null,{"$f":"SUM(G256:G260)","v":0},{"$f":"SUM(H256:H260)","v":0}]
["11.1.1",null,{"$f":"IF(B256>0,VLOOKUP(B256,'1 Darbo užmokestis'!B$7:C$16,2,FALSE),\"\")","v":""},"val.",{"$f":"J$253*8","v":0},{"$f":"IF(B256>0,ROUND(VLOOKUP(B256,'1 Darbo užmokestis'!B$7:D$16,3,FALSE),2),0)","v":0},{"$f":"ROUND(E256*F256,2)","v":0},{"$f":"ROUND(G256*$D$4,2)","v":0}]
["11.1.2",null,{"$f":"IF(B257>0,VLOOKUP(B257,'1 Darbo užmokestis'!B$7:C$16,2,FALSE),\"\")","v":""},"val.",{"$f":"J$253*8","v":0},{"$f":"IF(B257>0,ROUND(VLOOKUP(B257,'1 Darbo užmokestis'!B$7:D$16,3,FALSE),2),0)","v":0},{"$f":"ROUND(E257*F257,2)","v":0},{"$f":"ROUND(G257*$D$4,2)","v":0}]
["11.1.3",null,{"$f":"IF(B258>0,VLOOKUP(B258,'1 Darbo užmokestis'!B$7:C$16,2,FALSE),\"\")","v":""},"val.",0,{"$f":"IF(B258>0,ROUND(VLOOKUP(B258,'1 Darbo užmokestis'!B$7:D$16,3,FALSE),2),0)","v":0},{"$f":"ROUND(E258*F258,2)","v":0},{"$f":"ROUND(G258*$D$4,2)","v":0}]
["11.1.4",null,{"$f":"IF(B259>0,VLOOKUP(B259,'1 Darbo užmokestis'!B$7:C$16,2,FALSE),\"\")","v":""},"val.",0,{"$f":"IF(B259>0,ROUND(VLOOKUP(B259,'1 Darbo užmokestis'!B$7:D$16,3,FALSE),2),0)","v":0},0,{"$f":"ROUND(G259*$D$4,2)","v":0}]
["11.1.5",null,{"$f":"IF(B260>0,VLOOKUP(B260,'1 Darbo užmokestis'!B$7:C$16,2,FALSE),\"\")","v":""},"val.",0,{"$f":"IF(B260>0,ROUND(VLOOKUP(B260,'1 Darbo užmokestis'!B$7:D$16,3,FALSE),2),0)","v":0},0,0]
["11.2","Komandiruotės išlaidos 1 asmeniui",null,null,null,null,{"$f":"SUM(G262:G269)","v":0},{"$f":"SUM(H262:H269)","v":0}]
["11.2.1","Dienpinigiai",null,"dienos",{"$f":"$J253","v":0},{"$f":"IF(D251>0,VLOOKUP(D251,'Dienpinigiai ir apgyvendinimas'!A$3:C$150,3,FALSE),0)","v":0},{"$f":"ROUND(E262*F262,2)","v":0},{"$f":"ROUND(G262*$D$4,2)","v":0}]
["11.2.2","Apgyvendinimo išlaidos (gyvenamojo ploto nuoma)",null,"naktys",{"$f":"IF(E262>0,$J253-1,0)","v":0},{"$f":"IF(D251>0,VLOOKUP(D251,'Dienpinigiai ir apgyvendinimas'!$A$3:$B$150,2,FALSE),0)","v":0},0,0]
["11.2.3","Kelionės išlaidos","Nurodykite konkrečią išlaidų rūšį (lėktuvų, atobusų bilietai, kt.)",null,null,null,{"$f":"ROUND(E264*F264,2)","v":0},0]
[null,null,null,null,null,null,{"$f":"ROUND(E265*F265,2)","v":0},0]
[null,null,null,null,null,null,{"$f":"ROUND(E266*F266,2)","v":0},0]
[null,null,null,null,null,null,{"$f":"ROUND(E267*F267,2)","v":0},0]
[null,null,null,null,null,null,{"$f":"ROUND(E268*F268,2)","v":0},0]
["11.2.4","Dalyvavimo MTEPI renginyje registracijos mokestis",null,"asmeniui",1,null,{"$f":"ROUND(F269,2)","v":0},0]
["11.3","Iš viso komandiruotės išlaidų (visiems vykstantiems asmenims)",null,null,null,null,{"$f":"ROUND(G261*D254,2)","v":0},{"$f":"ROUND(G270*$D$4,2)","v":0},"Išlaidos apskaičiuojamos tik įrašius į renginį vykstančių asmenų skaičių"]
["Iš viso 11 renginio išlaidų:",null,null,null,null,null,{"$f":"G255+G270","v":0},{"$f":"H255+H270","v":0}]
[]
["12 RENGINYS",null,"Renginio pavadinimas:"]
[null,null,"Renginio nuoroda internete:"]
[null,null,"Renginio šalis, pasirinkite iš sąrašo:"]
[null,null,"Renginio pradžios data:",null,"Renginio pabaigos data:",null,null,null,"Renginio trukmė dienomis:",{"$f":"IF(AND(D276>0,H276>0),H276-D276+1,)","v":0}]
[null,null,"Išvykimo į renginį data:",null,"Grįžimo iš renginio data:",null,null,null,"Komandiruotės trukmė dienomis:",{"$f":"IF(AND(D277>0,H277>0),H277-D277+1,)","v":0}]
[null,null,"Į renginį vykstančių asmenų skaičius:"]
["12.1","Projektą vykdančio personalo darbo užmokesčio išlaidos komandiruotės laikotarpiu",null,null,null,null,{"$f":"SUM(G280:G284)","v":0},{"$f":"SUM(H280:H284)","v":0}]
["12.1.1",null,{"$f":"IF(B280>0,VLOOKUP(B280,'1 Darbo užmokestis'!B$7:C$16,2,FALSE),\"\")","v":""},"val.",{"$f":"J$277*8","v":0},{"$f":"IF(B280>0,ROUND(VLOOKUP(B280,'1 Darbo užmokestis'!B$7:D$16,3,FALSE),2),0)","v":0},{"$f":"ROUND(E280*F280,2)","v":0},{"$f":"ROUND(G280*$D$4,2)","v":0}]
["12.1.2",null,{"$f":"IF(B281>0,VLOOKUP(B281,'1 Darbo užmokestis'!B$7:C$16,2,FALSE),\"\")","v":""},"val.",{"$f":"J$277*8","v":0},{"$f":"IF(B281>0,ROUND(VLOOKUP(B281,'1 Darbo užmokestis'!B$7:D$16,3,FALSE),2),0)","v":0},{"$f":"ROUND(E281*F281,2)","v":0},{"$f":"ROUND(G281*$D$4,2)","v":0}]
["12.1.3",null,{"$f":"IF(B282>0,VLOOKUP(B282,'1 Darbo užmokestis'!B$7:C$16,2,FALSE),\"\")","v":""},"val.",0,{"$f":"IF(B282>0,ROUND(VLOOKUP(B282,'1 Darbo užmokestis'!B$7:D$16,3,FALSE),2),0)","v":0},{"$f":"ROUND(E282*F282,2)","v":0},{"$f":"ROUND(G282*$D$4,2)","v":0}]
["12.1.4",null,{"$f":"IF(B283>0,VLOOKUP(B283,'1 Darbo užmokestis'!B$7:C$16,2,FALSE),\"\")","v":""},"val.",0,{"$f":"IF(B283>0,ROUND(VLOOKUP(B283,'1 Darbo užmokestis'!B$7:D$16,3,FALSE),2),0)","v":0},0,{"$f":"ROUND(G283*$D$4,2)","v":0}]
["12.1.5",null,{"$f":"IF(B284>0,VLOOKUP(B284,'1 Darbo užmokestis'!B$7:C$16,2,FALSE),\"\")","v":""},"val.",0,{"$f":"IF(B284>0,ROUND(VLOOKUP(B284,'1 Darbo užmokestis'!B$7:D$16,3,FALSE),2),0)","v":0},0,0]
["12.2","Komandiruotės išlaidos 1 asmeniui",null,null,null,null,{"$f":"SUM(G286:G293)","v":0},{"$f":"SUM(H286:H293)","v":0}]
["12.2.1","Dienpinigiai",null,"dienos",{"$f":"$J277","v":0},{"$f":"IF(D275>0,VLOOKUP(D275,'Dienpinigiai ir apgyvendinimas'!A$3:C$150,3,FALSE),0)","v":0},{"$f":"ROUND(E286*F286,2)","v":0},{"$f":"ROUND(G286*$D$4,2)","v":0}]
["12.2.2","Apgyvendinimo išlaidos (gyvenamojo ploto nuoma)",null,"naktys",{"$f":"IF(E286>0,$J277-1,0)","v":0},{"$f":"IF(D275>0,VLOOKUP(D275,'Dienpinigiai ir apgyvendinimas'!$A$3:$B$150,2,FALSE),0)","v":0},0,0]
["12.2.3","Kelionės išlaidos","Nurodykite konkrečią išlaidų rūšį (lėktuvų, atobusų bilietai, kt.)",null,null,null,{"$f":"ROUND(E288*F288,2)","v":0},0]
[null,null,null,null,null,null,{"$f":"ROUND(E289*F289,2)","v":0},0]
[null,null,null,null,null,null,{"$f":"ROUND(E290*F290,2)","v":0},0]
[null,null,null,null,null,null,{"$f":"ROUND(E291*F291,2)","v":0},0]
[null,null,null,null,null,null,{"$f":"ROUND(E292*F292,2)","v":0},0]
["12.2.4","Dalyvavimo MTEPI renginyje registracijos mokestis",null,"asmeniui",1,null,{"$f":"ROUND(F293,2)","v":0},0]
["12.3","Iš viso komandiruotės išlaidų (visiems vykstantiems asmenims)",null,null,null,null,{"$f":"ROUND(G285*D278,2)","v":0},{"$f":"ROUND(G294*$D$4,2)","v":0},"Išlaidos apskaičiuojamos tik įrašius į renginį vykstančių asmenų skaičių"]
["Iš viso 12 renginio išlaidų:",null,null,null,null,null,{"$f":"G279+G294","v":0},{"$f":"H279+H294","v":0}]
[]
["13 RENGINYS",null,"Renginio pavadinimas:"]
[null,null,"Renginio nuoroda internete:"]
[null,null,"Renginio šalis, pasirinkite iš sąrašo:"]
[null,null,"Renginio pradžios data:",null,"Renginio pabaigos data:",null,null,null,"Renginio trukmė dienomis:",{"$f":"IF(AND(D300>0,H300>0),H300-D300+1,)","v":0}]
[null,null,"Išvykimo į renginį data:",null,"Grįžimo iš renginio data:",null,null,null,"Komandiruotės trukmė dienomis:",{"$f":"IF(AND(D301>0,H301>0),H301-D301+1,)","v":0}]
[null,null,"Į renginį vykstančių asmenų skaičius:"]
["13.1","Projektą vykdančio personalo darbo užmokesčio išlaidos komandiruotės laikotarpiu",null,null,null,null,{"$f":"SUM(G304:G308)","v":0},{"$f":"SUM(H304:H308)","v":0}]
["13.1.1",null,{"$f":"IF(B304>0,VLOOKUP(B304,'1 Darbo užmokestis'!B$7:C$16,2,FALSE),\"\")","v":""},"val.",{"$f":"J$301*8","v":0},{"$f":"IF(B304>0,ROUND(VLOOKUP(B304,'1 Darbo užmokestis'!B$7:D$16,3,FALSE),2),0)","v":0},{"$f":"ROUND(E304*F304,2)","v":0},{"$f":"ROUND(G304*$D$4,2)","v":0}]
["13.1.2",null,{"$f":"IF(B305>0,VLOOKUP(B305,'1 Darbo užmokestis'!B$7:C$16,2,FALSE),\"\")","v":""},"val.",{"$f":"J$301*8","v":0},{"$f":"IF(B305>0,ROUND(VLOOKUP(B305,'1 Darbo užmokestis'!B$7:D$16,3,FALSE),2),0)","v":0},{"$f":"ROUND(E305*F305,2)","v":0},{"$f":"ROUND(G305*$D$4,2)","v":0}]
["13.1.3",null,{"$f":"IF(B306>0,VLOOKUP(B306,'1 Darbo užmokestis'!B$7:C$16,2,FALSE),\"\")","v":""},"val.",0,{"$f":"IF(B306>0,ROUND(VLOOKUP(B306,'1 Darbo užmokestis'!B$7:D$16,3,FALSE),2),0)","v":0},{"$f":"ROUND(E306*F306,2)","v":0},{"$f":"ROUND(G306*$D$4,2)","v":0}]
["13.1.4",null,{"$f":"IF(B307>0,VLOOKUP(B307,'1 Darbo užmokestis'!B$7:C$16,2,FALSE),\"\")","v":""},"val.",0,{"$f":"IF(B307>0,ROUND(VLOOKUP(B307,'1 Darbo užmokestis'!B$7:D$16,3,FALSE),2),0)","v":0},0,{"$f":"ROUND(G307*$D$4,2)","v":0}]
["13.1.5",null,{"$f":"IF(B308>0,VLOOKUP(B308,'1 Darbo užmokestis'!B$7:C$16,2,FALSE),\"\")","v":""},"val.",0,{"$f":"IF(B308>0,ROUND(VLOOKUP(B308,'1 Darbo užmokestis'!B$7:D$16,3,FALSE),2),0)","v":0},0,0]
["13.2","Komandiruotės išlaidos 1 asmeniui",null,null,null,null,{"$f":"SUM(G310:G317)","v":0},{"$f":"SUM(H310:H317)","v":0}]
["13.2.1","Dienpinigiai",null,"dienos",{"$f":"$J301","v":0},{"$f":"IF(D299>0,VLOOKUP(D299,'Dienpinigiai ir apgyvendinimas'!A$3:C$150,3,FALSE),0)","v":0},{"$f":"ROUND(E310*F310,2)","v":0},{"$f":"ROUND(G310*$D$4,2)","v":0}]
["13.2.2","Apgyvendinimo išlaidos (gyvenamojo ploto nuoma)",null,"naktys",{"$f":"IF(E310>0,$J301-1,0)","v":0},{"$f":"IF(D299>0,VLOOKUP(D299,'Dienpinigiai ir apgyvendinimas'!$A$3:$B$150,2,FALSE),0)","v":0},0,0]
["13.2.3","Kelionės išlaidos","Nurodykite konkrečią išlaidų rūšį (lėktuvų, atobusų bilietai, kt.)",null,null,null,{"$f":"ROUND(E312*F312,2)","v":0},0]
[null,null,null,null,null,null,{"$f":"ROUND(E313*F313,2)","v":0},0]
[null,null,null,null,null,null,{"$f":"ROUND(E314*F314,2)","v":0},0]
[null,null,null,null,null,null,{"$f":"ROUND(E315*F315,2)","v":0},0]
[null,null,null,null,null,null,{"$f":"ROUND(E316*F316,2)","v":0},0]
["13.2.4","Dalyvavimo MTEPI renginyje registracijos mokestis",null,"asmeniui",1,null,{"$f":"ROUND(F317,2)","v":0},0]
["13.3","Iš viso komandiruotės išlaidų (visiems vykstantiems asmenims)",null,null,null,null,{"$f":"ROUND(G309*D302,2)","v":0},{"$f":"ROUND(G318*$D$4,2)","v":0},"Išlaidos apskaičiuojamos tik įrašius į renginį vykstančių asmenų skaičių"]
["Iš viso 13 renginio išlaidų:",null,null,null,null,null,{"$f":"G303+G318","v":0},{"$f":"H303+H318","v":0}]
[]
["14 RENGINYS",null,"Renginio pavadinimas:"]
[null,null,"Renginio nuoroda internete:"]
[null,null,"Renginio šalis, pasirinkite iš sąrašo:"]
[null,null,"Renginio pradžios data:",null,"Renginio pabaigos data:",null,null,null,"Renginio trukmė dienomis:",{"$f":"IF(AND(D324>0,H324>0),H324-D324+1,)","v":0}]
[null,null,"Išvykimo į renginį data:",null,"Grįžimo iš renginio data:",null,null,null,"Komandiruotės trukmė dienomis:",{"$f":"IF(AND(D325>0,H325>0),H325-D325+1,)","v":0}]
[null,null,"Į renginį vykstančių asmenų skaičius:"]
["14.1","Projektą vykdančio personalo darbo užmokesčio išlaidos komandiruotės laikotarpiu",null,null,null,null,{"$f":"SUM(G328:G332)","v":0},{"$f":"SUM(H328:H332)","v":0}]
["14.1.1",null,{"$f":"IF(B328>0,VLOOKUP(B328,'1 Darbo užmokestis'!B$7:C$16,2,FALSE),\"\")","v":""},"val.",{"$f":"J$325*8","v":0},{"$f":"IF(B328>0,ROUND(VLOOKUP(B328,'1 Darbo užmokestis'!B$7:D$16,3,FALSE),2),0)","v":0},{"$f":"ROUND(E328*F328,2)","v":0},{"$f":"ROUND(G328*$D$4,2)","v":0}]
["14.1.2",null,{"$f":"IF(B329>0,VLOOKUP(B329,'1 Darbo užmokestis'!B$7:C$16,2,FALSE),\"\")","v":""},"val.",{"$f":"J$325*8","v":0},{"$f":"IF(B329>0,ROUND(VLOOKUP(B329,'1 Darbo užmokestis'!B$7:D$16,3,FALSE),2),0)","v":0},{"$f":"ROUND(E329*F329,2)","v":0},{"$f":"ROUND(G329*$D$4,2)","v":0}]
["14.1.3",null,{"$f":"IF(B330>0,VLOOKUP(B330,'1 Darbo užmokestis'!B$7:C$16,2,FALSE),\"\")","v":""},"val.",0,{"$f":"IF(B330>0,ROUND(VLOOKUP(B330,'1 Darbo užmokestis'!B$7:D$16,3,FALSE),2),0)","v":0},{"$f":"ROUND(E330*F330,2)","v":0},{"$f":"ROUND(G330*$D$4,2)","v":0}]
["14.1.4",null,{"$f":"IF(B331>0,VLOOKUP(B331,'1 Darbo užmokestis'!B$7:C$16,2,FALSE),\"\")","v":""},"val.",0,{"$f":"IF(B331>0,ROUND(VLOOKUP(B331,'1 Darbo užmokestis'!B$7:D$16,3,FALSE),2),0)","v":0},0,{"$f":"ROUND(G331*$D$4,2)","v":0}]
["14.1.5",null,{"$f":"IF(B332>0,VLOOKUP(B332,'1 Darbo užmokestis'!B$7:C$16,2,FALSE),\"\")","v":""},"val.",0,{"$f":"IF(B332>0,ROUND(VLOOKUP(B332,'1 Darbo užmokestis'!B$7:D$16,3,FALSE),2),0)","v":0},0,0]
["14.2","Komandiruotės išlaidos 1 asmeniui",null,null,null,null,{"$f":"SUM(G334:G341)","v":0},{"$f":"SUM(H334:H341)","v":0}]
["14.2.1","Dienpinigiai",null,"dienos",{"$f":"$J325","v":0},{"$f":"IF(D323>0,VLOOKUP(D323,'Dienpinigiai ir apgyvendinimas'!A$3:C$150,3,FALSE),0)","v":0},{"$f":"ROUND(E334*F334,2)","v":0},{"$f":"ROUND(G334*$D$4,2)","v":0}]
["14.2.2","Apgyvendinimo išlaidos (gyvenamojo ploto nuoma)",null,"naktys",{"$f":"IF(E334>0,$J325-1,0)","v":0},{"$f":"IF(D323>0,VLOOKUP(D323,'Dienpinigiai ir apgyvendinimas'!$A$3:$B$150,2,FALSE),0)","v":0},0,0]
["14.2.3","Kelionės išlaidos","Nurodykite konkrečią išlaidų rūšį (lėktuvų, atobusų bilietai, kt.)",null,null,null,{"$f":"ROUND(E336*F336,2)","v":0},0]
[null,null,null,null,null,null,{"$f":"ROUND(E337*F337,2)","v":0},0]
[null,null,null,null,null,null,{"$f":"ROUND(E338*F338,2)","v":0},0]
[null,null,null,null,null,null,{"$f":"ROUND(E339*F339,2)","v":0},0]
[null,null,null,null,null,null,{"$f":"ROUND(E340*F340,2)","v":0},0]
["14.2.4","Dalyvavimo MTEPI renginyje registracijos mokestis",null,"asmeniui",1,null,{"$f":"ROUND(F341,2)","v":0},0]
["14.3","Iš viso komandiruotės išlaidų (visiems vykstantiems asmenims)",null,null,null,null,{"$f":"ROUND(G333*D326,2)","v":0},{"$f":"ROUND(G342*$D$4,2)","v":0},"Išlaidos apskaičiuojamos tik įrašius į renginį vykstančių asmenų skaičių"]
["Iš viso 14 renginio išlaidų:",null,null,null,null,null,{"$f":"G327+G342","v":0},{"$f":"H327+H342","v":0}]
[]
["15 RENGINYS",null,"Renginio pavadinimas:"]
[null,null,"Renginio nuoroda internete:"]
[null,null,"Renginio šalis, pasirinkite iš sąrašo:"]
[null,null,"Renginio pradžios data:",null,"Renginio pabaigos data:",null,null,null,"Renginio trukmė dienomis:",{"$f":"IF(AND(D348>0,H348>0),H348-D348+1,)","v":0}]
[null,null,"Išvykimo į renginį data:",null,"Grįžimo iš renginio data:",null,null,null,"Komandiruotės trukmė dienomis:",{"$f":"IF(AND(D349>0,H349>0),H349-D349+1,)","v":0}]
[null,null,"Į renginį vykstančių asmenų skaičius:"]
["15.1","Projektą vykdančio personalo darbo užmokesčio išlaidos komandiruotės laikotarpiu",null,null,null,null,{"$f":"SUM(G352:G356)","v":0},{"$f":"SUM(H352:H356)","v":0}]
["15.1.1",null,{"$f":"IF(B352>0,VLOOKUP(B352,'1 Darbo užmokestis'!B$7:C$16,2,FALSE),\"\")","v":""},"val.",{"$f":"J$349*8","v":0},{"$f":"IF(B352>0,ROUND(VLOOKUP(B352,'1 Darbo užmokestis'!B$7:D$16,3,FALSE),2),0)","v":0},{"$f":"ROUND(E352*F352,2)","v":0},{"$f":"ROUND(G352*$D$4,2)","v":0}]
["15.1.2",null,{"$f":"IF(B353>0,VLOOKUP(B353,'1 Darbo užmokestis'!B$7:C$16,2,FALSE),\"\")","v":""},"val.",{"$f":"J$349*8","v":0},{"$f":"IF(B353>0,ROUND(VLOOKUP(B353,'1 Darbo užmokestis'!B$7:D$16,3,FALSE),2),0)","v":0},{"$f":"ROUND(E353*F353,2)","v":0},{"$f":"ROUND(G353*$D$4,2)","v":0}]
["15.1.3",null,{"$f":"IF(B354>0,VLOOKUP(B354,'1 Darbo užmokestis'!B$7:C$16,2,FALSE),\"\")","v":""},"val.",0,{"$f":"IF(B354>0,ROUND(VLOOKUP(B354,'1 Darbo užmokestis'!B$7:D$16,3,FALSE),2),0)","v":0},{"$f":"ROUND(E354*F354,2)","v":0},{"$f":"ROUND(G354*$D$4,2)","v":0}]
["15.1.4",null,{"$f":"IF(B355>0,VLOOKUP(B355,'1 Darbo užmokestis'!B$7:C$16,2,FALSE),\"\")","v":""},"val.",0,{"$f":"IF(B355>0,ROUND(VLOOKUP(B355,'1 Darbo užmokestis'!B$7:D$16,3,FALSE),2),0)","v":0},0,{"$f":"ROUND(G355*$D$4,2)","v":0}]
["15.1.5",null,{"$f":"IF(B356>0,VLOOKUP(B356,'1 Darbo užmokestis'!B$7:C$16,2,FALSE),\"\")","v":""},"val.",0,{"$f":"IF(B356>0,ROUND(VLOOKUP(B356,'1 Darbo užmokestis'!B$7:D$16,3,FALSE),2),0)","v":0},0,0]
["15.2","Komandiruotės išlaidos 1 asmeniui",null,null,null,null,{"$f":"SUM(G358:G365)","v":0},{"$f":"SUM(H358:H365)","v":0}]
["15.2.1","Dienpinigiai",null,"dienos",{"$f":"$J349","v":0},{"$f":"IF(D347>0,VLOOKUP(D347,'Dienpinigiai ir apgyvendinimas'!A$3:C$150,3,FALSE),0)","v":0},{"$f":"ROUND(E358*F358,2)","v":0},{"$f":"ROUND(G358*$D$4,2)","v":0}]
["15.2.2","Apgyvendinimo išlaidos (gyvenamojo ploto nuoma)",null,"naktys",{"$f":"IF(E358>0,$J349-1,0)","v":0},{"$f":"IF(D347>0,VLOOKUP(D347,'Dienpinigiai ir apgyvendinimas'!$A$3:$B$150,2,FALSE),0)","v":0},0,0]
["15.2.3","Kelionės išlaidos","Nurodykite konkrečią išlaidų rūšį (lėktuvų, atobusų bilietai, kt.)",null,null,null,{"$f":"ROUND(E360*F360,2)","v":0},0]
[null,null,null,null,null,null,{"$f":"ROUND(E361*F361,2)","v":0},0]
[null,null,null,null,null,null,{"$f":"ROUND(E362*F362,2)","v":0},0]
[null,null,null,null,null,null,{"$f":"ROUND(E363*F363,2)","v":0},0]
[null,null,null,null,null,null,{"$f":"ROUND(E364*F364,2)","v":0},0]
["15.2.4","Dalyvavimo MTEPI renginyje registracijos mokestis",null,"asmeniui",1,null,{"$f":"ROUND(F365,2)","v":0},0]
["15.3","Iš viso komandiruotės išlaidų (visiems vykstantiems asmenims)",null,null,null,null,{"$f":"ROUND(G357*D350,2)","v":0},{"$f":"ROUND(G366*$D$4,2)","v":0},"Išlaidos apskaičiuojamos tik įrašius į renginį vykstančių asmenų skaičių"]
["Iš viso 15 renginio išlaidų:",null,null,null,null,null,{"$f":"G351+G366","v":0},{"$f":"H351+H366","v":0}]

{"sheet":"Finansavimo intensyvumai","index":4,"n_rows":2,"n_cols":2,"rows_kept":2,"cut":false,"hidden":true,"merged":[]}
["Sostinės regionas",0.5]
["Vidurio ir vakarų Lietuvos regionas",0.85]

{"sheet":"Dienpinigiai ir apgyvendinimas","index":5,"n_rows":150,"n_cols":3,"rows_kept":150,"cut":false,"hidden":false,"merged":[[0,0,0,2]]}
["Dienpinigų ir gyvenamojo plotonuomos normos, \npatvirtintos Lietuvos Respublikos Vyriausybės 2004 m. balandžio 29 d. nutarimu Nr. 526 „Dėl dienpinigių ir kitų komandiruočių išlaidų apmokėjimo“"]
["Valstybės","Gyvenamojo ploto nuomos išlaidų 1 dienos norma, Eur","1 dienos dienpinigių dydis, Eur"]
["Afganistano Islamo Respublika",147,33]
["Airija",174,69]
["Albanijos Respublika",110,33]
["Alžyro Liaudies Demokratinė Respublika",240,57]
["Andoros Kunigaikštystė",103,46]
["Angolos Respublika",382,70]
["Argentinos Respublika",210,50]
["Armėnijos Respublika",210,47]
["Australija",220,50]
["Austrijos Respublika",174,63]
["Azerbaidžano Respublika",200,47]
["Bahamų Sandrauga",174,50]
["Bahreino Karalystė",195,53]
["Baltarusijos Respublika",116,60]
["Bangladešo Liaudies  Respublika",145,33]
["Belgijos Karalystė",197,61]
["Bosnija ir Hercegovina",154,43]
["Botsvanos Respublika",231,33]
["Brazilijos Federacinė Respublika",180,43]
["Brunėjaus Darusalamas",167,40]
["Bulgarijos Respublika",140,39]
["Burkina Fasas",90,37]
["Butano Karalystė",165,33]
["Buvusioji Jugoslavijos Respublika Makedonija",145,33]
["Čekijos Respublika",188,50]
["Čilės Respublika",175,47]
["Danijos Karalystė",174,80]
["Dramblio Kaulo Kranto Respublika",177,40]
["Egipto Arabų Respublika",180,43]
["Ekvadoro Respublika",140,33]
["Estijos Respublika",145,47]
["Etiopijos Federacinė Demokratinė Respublika",175,33]
["Filipinų Respublika",150,40]
["Ganos Respublika",140,47]
["Graikijos Respublika",145,55]
["Gruzija",215,53]
["Gvatemalos Respublika",125,33]
["Indijos Respublika",194,33]
["Indonezijos Respublika",145,33]
["Irako Respublika",210,40]
["Irano Islamo Respublika",190,37]
["Islandijos Respublika",200,57]
["Ispanijos Karalystė",177,58]
["Italijos Respublika",188,63]
["Izraelio Valstybė",210,70]
["Ypatingasis Administracinis Kinijos Regionas Honkongas",270,40]
["Ypatingasis Administracinis Kinijos Regionas Makao",213,37]
["Japonija",275,87]
["Jemeno Respublika",180,40]
["Jordanijos Hašimitų Karalystė",190,40]
["Jungtinė Didžiosios Britanijos ir Šiaurės Airijos Karalystė",203,67]
["Jungtinės Amerikos Valstijos",275,53]
["Jungtiniai Arabų Emyratai",195,47]
["Juodkalnija",174,53]
["Kaimanų Salos",232,53]
["Kambodžos Karalystė",113,33]
["Kanada",174,55]
["Kataro Valstybė",195,52]
["Kazachstano Respublika",175,47]
["Kenijos Respublika",200,40]
["Kinijos Liaudies Respublika",181,37]
["Kipro Respublika",148,62]
["Kirgizijos Respublika",180,50]
["Kolumbijos Respublika",156,33]
["Kongo Demokratinė Respublika",166,70]
["Korėjos Respublika",270,67]
["Korėjos Liaudies Demokratinė Respublika",180,33]
["Kosovo Respublika",174,35]
["Kosta Rikos Respublika",140,33]
["Kroatijos Respublika",155,40]
["Kubos Respublika",150,50]
["Kuveito Valstybė",195,57]
["Laoso Liaudies Demokratinė Respublika",145,33]
["Latvijos Respublika",145,44]
["Lenkijos Respublika",145,48]
["Lesoto Karalystė",130,33]
["Libano Respublika",190,47]
["Liberijos Respublika",150,57]
["Libija",175,33]
["Lichtenšteino Kunigaikštystė",116,53]
["Liuksemburgo Didžioji Hercogystė",250,61]
["Madagaskaro Demokratinė Respublika",122,33]
["Malaizija",160,33]
["Malavio Respublika",168,33]
["Malio Respublika",169,40]
["Maltos Respublika",116,60]
["Maroko Karalystė",174,50]
["Mauricijaus Respublika",140,40]
["Mauritanijos Islamo Respublika",110,33]
["Meksikos Jungtinės Valstijos",185,47]
["Mianmaro Sąjungos Respublika",129,33]
["Moldovos Respublika",88,53]
["Monako Kunigaikštystė",176,49]
["Mongolija",173,47]
["Mozambiko Respublika",218,40]
["Namibijos Respublika",146,33]
["Naujoji Zelandija",190,40]
["Nepalo Federacinė Demokratinė Respublika",143,33]
["Nigerijos Federacinė Respublika",185,33]
["Nyderlandų Karalystė",162,64]
["Norvegijos Karalystė",188,53]
["Omano Sultonatas",236,47]
["Pakistano Islamo Respublika",188,33]
["Panamos Respublika",160,33]
["Papua Naujosios Gvinėjos Nepriklausomoji Valstybė",147,37]
["Peru Respublika",146,50]
["Pietų Afrikos Respublika",168,33]
["Pietų Sudano Respublika",215,37]
["Portugalijos Respublika",145,56]
["Prancūzijos Respublika",188,63]
["Puerto Rikas",147,43]
["Ruandos Respublika",160,43]
["Rumunija",131,35]
["Rusijos Federacija",206,60]
["San Marino Respublika",116,40]
["Saudo Arabijos Karalystė",195,57]
["Seišelių Respublika",213,57]
["Senegalo Respublika",135,43]
["Sent Kitsas ir Nevis",190,57]
["Serbijos Respublika",174,53]
["Singapūro Respublika",200,50]
["Sirijos Arabų Respublika",152,53]
["Slovakijos Respublika",165,53]
["Slovėnijos Respublika",174,47]
["Sudano Respublika",215,37]
["Suomijos Respublika",174,69]
["Šri Lankos Demokratinė Socialistinė Respublika",130,33]
["Švedijos Karalystė",191,65]
["Šveicarijos Konfederacija",250,53]
["Tadžikistano Respublika",110,50]
["Tailando Karalystė",175,40]
["Taivanas",200,37]
["Tanzanijos Jungtinė Respublika",202,33]
["Tuniso Respublika",144,40]
["Turkijos Respublika",165,37]
["Turkmėnistanas",150,53]
["Ugandos Respublika",180,37]
["Ukraina",174,53]
["Urugvajaus Rytų Respublika",160,37]
["Uzbekistano Respublika",155,50]
["Vatikano Miesto Valstybė",185,40]
["Venesuelos Bolivaro Respublika",139,57]
["Vengrija",174,48]
["Vietnamo Socialistinė Respublika",205,33]
["Vokietijos Federacinė Respublika",191,62]
["Zambijos Respublika",147,33]
["Zimbabvės Respublika",145,33]
["Kitos valstybės",124,31]